BEGIN:VCALENDAR
VERSION:2.0
PRODID:-//Western Dressage Association of Florida - ECPv6.15.20//NONSGML v1.0//EN
CALSCALE:GREGORIAN
METHOD:PUBLISH
X-WR-CALNAME:Western Dressage Association of Florida
X-ORIGINAL-URL:https://wdafl.org
X-WR-CALDESC:Events for Western Dressage Association of Florida
REFRESH-INTERVAL;VALUE=DURATION:PT1H
X-Robots-Tag:noindex
X-PUBLISHED-TTL:PT1H
BEGIN:VTIMEZONE
TZID:America/New_York
BEGIN:DAYLIGHT
TZOFFSETFROM:-0500
TZOFFSETTO:-0400
TZNAME:EDT
DTSTART:20240310T070000
END:DAYLIGHT
BEGIN:STANDARD
TZOFFSETFROM:-0400
TZOFFSETTO:-0500
TZNAME:EST
DTSTART:20241103T060000
END:STANDARD
BEGIN:DAYLIGHT
TZOFFSETFROM:-0500
TZOFFSETTO:-0400
TZNAME:EDT
DTSTART:20250309T070000
END:DAYLIGHT
BEGIN:STANDARD
TZOFFSETFROM:-0400
TZOFFSETTO:-0500
TZNAME:EST
DTSTART:20251102T060000
END:STANDARD
BEGIN:DAYLIGHT
TZOFFSETFROM:-0500
TZOFFSETTO:-0400
TZNAME:EDT
DTSTART:20260308T070000
END:DAYLIGHT
BEGIN:STANDARD
TZOFFSETFROM:-0400
TZOFFSETTO:-0500
TZNAME:EST
DTSTART:20261101T060000
END:STANDARD
END:VTIMEZONE
BEGIN:VEVENT
DTSTART;TZID=America/New_York:20251201T000000
DTEND;TZID=America/New_York:20251231T235959
DTSTAMP:20260424T175000
CREATED:20251104T184001Z
LAST-MODIFIED:20251104T191828Z
UID:28932-1764547200-1767225599@wdafl.org
SUMMARY:WDAFL Gingerbread Jubilee
DESCRIPTION:Western Dressage Online Show\n\n\n\nJudge: Marie Maloney \n\n\n\nWDAA Recognition #: Applied ForFHANA\, AWSSR\, and APHA-PAC recognized \n\n\n\nQualify Early. Qualify Online. This show is a qualifier for the 2026 US National Dressage Classic Semi-Finals AND the 2026 WDAA World Show. Show High Point prizes for these divisions: Junior\, Amateur\, Open. WDAFL members are also eligible for affiliate year-end awards. Details in prize list. \n\n\n\nFull information and prize list:  https://www.spotlighthorseshows.com/calendar/WDAFL-Gingerbread-Jubilee/2026 \n\n\n\nOpening: Dec 01\, 2025 \n\n\n\nClosing: Dec 31\, 2025 \n\n\n\nVideo Due: Jan 25\, 2026 \n\n\n\nResults By: Feb 05\, 2026 \n\n\n\nResults\n\n\n\n\n\n 
URL:https://wdafl.org/show/wdafl-gingerbread-jubilee-2/
LOCATION:Florida
CATEGORIES:Online/Virtual Show,WDAFL Events,Western Dressage Show
ATTACH;FMTTYPE=image/jpeg:https://wdafl.org/wp-content/uploads/2024/11/GingerbreadJubileeQualifying.jpg
END:VEVENT
END:VCALENDAR