BEGIN:VCALENDAR
VERSION:2.0
PRODID:-//Western Dressage Association of Florida - ECPv6.15.20//NONSGML v1.0//EN
CALSCALE:GREGORIAN
METHOD:PUBLISH
X-WR-CALNAME:Western Dressage Association of Florida
X-ORIGINAL-URL:https://wdafl.org
X-WR-CALDESC:Events for Western Dressage Association of Florida
REFRESH-INTERVAL;VALUE=DURATION:PT1H
X-Robots-Tag:noindex
X-PUBLISHED-TTL:PT1H
BEGIN:VTIMEZONE
TZID:America/New_York
BEGIN:DAYLIGHT
TZOFFSETFROM:-0500
TZOFFSETTO:-0400
TZNAME:EDT
DTSTART:20240310T070000
END:DAYLIGHT
BEGIN:STANDARD
TZOFFSETFROM:-0400
TZOFFSETTO:-0500
TZNAME:EST
DTSTART:20241103T060000
END:STANDARD
BEGIN:DAYLIGHT
TZOFFSETFROM:-0500
TZOFFSETTO:-0400
TZNAME:EDT
DTSTART:20250309T070000
END:DAYLIGHT
BEGIN:STANDARD
TZOFFSETFROM:-0400
TZOFFSETTO:-0500
TZNAME:EST
DTSTART:20251102T060000
END:STANDARD
BEGIN:DAYLIGHT
TZOFFSETFROM:-0500
TZOFFSETTO:-0400
TZNAME:EDT
DTSTART:20260308T070000
END:DAYLIGHT
BEGIN:STANDARD
TZOFFSETFROM:-0400
TZOFFSETTO:-0500
TZNAME:EST
DTSTART:20261101T060000
END:STANDARD
END:VTIMEZONE
BEGIN:VEVENT
DTSTART;TZID=America/New_York:20251207T000000
DTEND;TZID=America/New_York:20251207T235959
DTSTAMP:20260424T234421
CREATED:20250918T144122Z
LAST-MODIFIED:20250918T144125Z
UID:28681-1765065600-1765151999@wdafl.org
SUMMARY:STRIDE Dressage Schooling Show - December
DESCRIPTION:Welcome to the 2025/2026 STRIDE Schooling Show Series presented by Stride Dressage of Ocala\, a volunteer run GMO\, promoting traditional dressage\, western dressage and driven dressage. Schooling shows offer classes in all these as well as gaited\, working equitation and USEA dressage\, driven cones and various versatility classes. Members enjoy discounted entry fees\, Year End Awards\, and discounts from our many sponsors. Non-members and competitors of all ages and skill levels are welcome at our shows. \n\n\n\nShow Judge: Jodi ElyClosing Date: November 24 \n\n\n\nEnter online\n\nDownload Showbill
URL:https://wdafl.org/show/stride-dressage-schooling-show-december/
LOCATION:Florida Horse Park\, 11008 S. County Road 475A\, Ocala\, FL\, 34480\, United States
CATEGORIES:Classical Dressage Show with WD Classes
ATTACH;FMTTYPE=image/jpeg:https://wdafl.org/wp-content/uploads/2025/09/STRIDE-Logo-4-1.jpg
ORGANIZER;CN="Stride":MAILTO:stridesecretary@gmail.com
END:VEVENT
BEGIN:VEVENT
DTSTART;TZID=America/New_York:20251207T000000
DTEND;TZID=America/New_York:20251207T235959
DTSTAMP:20260424T234421
CREATED:20250927T132800Z
LAST-MODIFIED:20250927T133255Z
UID:28741-1765065600-1765151999@wdafl.org
SUMMARY:PGHA Dressage November
DESCRIPTION:Western Dressage Show WDAA recognizedClassical Dressage schooling show \n\n\n\nShow Judge: Patti Thompson “R” \n\n\n\n Get your entries in earlier along with your membership\, nomination and sponsor forms!!
URL:https://wdafl.org/show/pgha-dressage-november/
LOCATION:Carmalita Park\, 2605 Florida St \, Florida\, Punta Gorda\, Fkorida\, 33950
CATEGORIES:Classical Dressage Show with WD Classes,Western Dressage Show
ATTACH;FMTTYPE=image/jpeg:https://wdafl.org/wp-content/uploads/2024/02/PGHA-logo.jpeg
ORGANIZER;CN="Punta Gorda Horsemans Association":MAILTO:mwerst@live.com
END:VEVENT
END:VCALENDAR