BEGIN:VCALENDAR
VERSION:2.0
PRODID:-//Western Dressage Association of Florida - ECPv6.15.20//NONSGML v1.0//EN
CALSCALE:GREGORIAN
METHOD:PUBLISH
X-ORIGINAL-URL:https://wdafl.org
X-WR-CALDESC:Events for Western Dressage Association of Florida
REFRESH-INTERVAL;VALUE=DURATION:PT1H
X-Robots-Tag:noindex
X-PUBLISHED-TTL:PT1H
BEGIN:VTIMEZONE
TZID:America/New_York
BEGIN:DAYLIGHT
TZOFFSETFROM:-0500
TZOFFSETTO:-0400
TZNAME:EDT
DTSTART:20210314T070000
END:DAYLIGHT
BEGIN:STANDARD
TZOFFSETFROM:-0400
TZOFFSETTO:-0500
TZNAME:EST
DTSTART:20211107T060000
END:STANDARD
BEGIN:DAYLIGHT
TZOFFSETFROM:-0500
TZOFFSETTO:-0400
TZNAME:EDT
DTSTART:20220313T070000
END:DAYLIGHT
BEGIN:STANDARD
TZOFFSETFROM:-0400
TZOFFSETTO:-0500
TZNAME:EST
DTSTART:20221106T060000
END:STANDARD
BEGIN:DAYLIGHT
TZOFFSETFROM:-0500
TZOFFSETTO:-0400
TZNAME:EDT
DTSTART:20230312T070000
END:DAYLIGHT
BEGIN:STANDARD
TZOFFSETFROM:-0400
TZOFFSETTO:-0500
TZNAME:EST
DTSTART:20231105T060000
END:STANDARD
BEGIN:DAYLIGHT
TZOFFSETFROM:-0500
TZOFFSETTO:-0400
TZNAME:EDT
DTSTART:20240310T070000
END:DAYLIGHT
BEGIN:STANDARD
TZOFFSETFROM:-0400
TZOFFSETTO:-0500
TZNAME:EST
DTSTART:20241103T060000
END:STANDARD
BEGIN:DAYLIGHT
TZOFFSETFROM:-0500
TZOFFSETTO:-0400
TZNAME:EDT
DTSTART:20250309T070000
END:DAYLIGHT
BEGIN:STANDARD
TZOFFSETFROM:-0400
TZOFFSETTO:-0500
TZNAME:EST
DTSTART:20251102T060000
END:STANDARD
BEGIN:DAYLIGHT
TZOFFSETFROM:-0500
TZOFFSETTO:-0400
TZNAME:EDT
DTSTART:20260308T070000
END:DAYLIGHT
BEGIN:STANDARD
TZOFFSETFROM:-0400
TZOFFSETTO:-0500
TZNAME:EST
DTSTART:20261101T060000
END:STANDARD
END:VTIMEZONE
BEGIN:VEVENT
DTSTART;TZID=America/New_York:20250412T000000
DTEND;TZID=America/New_York:20250412T235959
DTSTAMP:20260424T191026
CREATED:20241221T145757Z
LAST-MODIFIED:20241221T145938Z
UID:28021-1744416000-1744502399@wdafl.org
SUMMARY:NFDA April Schooling Show
DESCRIPTION:Northeast Florida Dressage Association (NFDA) SCHOOLING SHOW\n\n\n\nJacksonville Equestrian Center13611 Normandy Blvd.Jacksonville\, Florida 32221 \n\n\n\nShow Judge: Brian McMahon and Susan Knoll \n\n\n\nWebsite
URL:https://wdafl.org/show/nfda-april-schooling-show/
LOCATION:Jacksonville Equestrian Center\, 13611 Normandy Blvd.\, Jacksonville\, Florida\, 32221
CATEGORIES:Classical Dressage Show with WD Classes
ATTACH;FMTTYPE=image/jpeg:https://wdafl.org/wp-content/uploads/2024/12/NFDA-logo.jpg
END:VEVENT
BEGIN:VEVENT
DTSTART;TZID=America/New_York:20250223T000000
DTEND;TZID=America/New_York:20250223T235959
DTSTAMP:20260424T191026
CREATED:20250124T185018Z
LAST-MODIFIED:20250124T185020Z
UID:28199-1740268800-1740355199@wdafl.org
SUMMARY:Alpha Dressage Schooling Show - February 2025
DESCRIPTION:Dressage schooling show with classical and western classes. \nShow Date: Feb. 23\, 2025Entries Open: Jan. 24\, 2025Entries Close: Feb. 17\, 2025Late Entries: Feb. 18\, 2025subject to availability and payment of a late fee of $10 per entry \nJudge: Heather Stalker \n 
URL:https://wdafl.org/show/alpha-dressage-schooling-show-february-2025/
LOCATION:Triple J Ranch\, 861 Sinclair Road\, Sarasota\, FL\, 34240\, United States
CATEGORIES:Classical Dressage Show with WD Classes,Schooling Show
ATTACH;FMTTYPE=image/jpeg:https://wdafl.org/wp-content/uploads/2024/09/LOGO-2-1.jpg
ORGANIZER;CN="Alpha Dressage":MAILTO:alphadressage@gmail.com
END:VEVENT
BEGIN:VEVENT
DTSTART;TZID=America/New_York:20250201T000000
DTEND;TZID=America/New_York:20250201T235959
DTSTAMP:20260424T191026
CREATED:20241221T143001Z
LAST-MODIFIED:20241221T143417Z
UID:28010-1738368000-1738454399@wdafl.org
SUMMARY:NFDA Schooling Show
DESCRIPTION:Northeast Florida Dressage Association (NFDA) SCHOOLING SHOW\n\n\n\nJacksonville Equestrian Center13611 Normandy Blvd.Jacksonville\, Florida 32221 \n\n\n\nShow Judge: Charlotte Trentleman and Ida Norris \n\n\n\nNFDA first schooling show of 5 \, in 2025. Following show Meet and Greet with Ida Morris\,S USDF and r WD . Refreshments served. \n\n\n\nWebsite
URL:https://wdafl.org/show/nfda-schooling-show/
LOCATION:Jacksonville Equestrian Center\, 13611 Normandy Blvd.\, Jacksonville\, Florida\, 32221
CATEGORIES:Classical Dressage Show with WD Classes
ATTACH;FMTTYPE=image/jpeg:https://wdafl.org/wp-content/uploads/2024/12/NFDA-logo.jpg
END:VEVENT
BEGIN:VEVENT
DTSTART;VALUE=DATE:20241018
DTEND;VALUE=DATE:20241021
DTSTAMP:20260424T191026
CREATED:20240709T211340Z
LAST-MODIFIED:20240710T180738Z
UID:27078-1729209600-1729468799@wdafl.org
SUMMARY:OAHC Sport Horse Spooktacular
DESCRIPTION:Arabian sport horse show with rated open breed western dressage classes. NEW THIS YEAR- our open breed WD classes will be approved for AQHA points! \n -Rated Arabian and Half-Arabian Show with Dressage\, Western Dressage\, Sport Horse Under Saddle and Sport Horse In Hand classes. ​BOTH ​SATURDAY AND SUNDAY \n-All Breed Opportunity Classes. ​FRIDAY\, SATURDAY AND SUNDAY \nOur Western Dressage is AQHA APPROVED! \nShow Judge:  Brian MacMahon
URL:https://wdafl.org/show/oahc-sport-horse-spooktacular-3/
LOCATION:Clarcona Horse Park\, 3535 Damon road\, Apopka\, Florida\, 32712
CATEGORIES:Classical Dressage Show with WD Classes
ATTACH;FMTTYPE=image/jpeg:https://wdafl.org/wp-content/uploads/2021/01/Orlando-Arabian-Horse-Club.jpg
ORGANIZER;CN="Orlando Arabian Horse Club":MAILTO:info@orlandoarabianhorseclub.com
END:VEVENT
BEGIN:VEVENT
DTSTART;VALUE=DATE:20240908
DTEND;VALUE=DATE:20240909
DTSTAMP:20260424T191026
CREATED:20240711T184324Z
LAST-MODIFIED:20240712T194902Z
UID:27088-1725753600-1725839999@wdafl.org
SUMMARY:Alpha Dressage Association Schooling Show
DESCRIPTION:Dressage schooling show with both Western dressage classes and classical dressage classes. Where appropriate\, a 20 x 40 meter arena will be used. \nShow Judge: Lynn Newton
URL:https://wdafl.org/show/alpha-dressage-association-schooling-show/
LOCATION:Triple J Ranch\, 861 Sinclair Road\, Sarasota\, FL\, 34240\, United States
CATEGORIES:Classical Dressage Show with WD Classes
ATTACH;FMTTYPE=image/jpeg:https://wdafl.org/wp-content/uploads/2024/07/LOGO-1.jpg
ORGANIZER;CN="Alpha Dressage":MAILTO:alphadressage@gmail.com
END:VEVENT
BEGIN:VEVENT
DTSTART;VALUE=DATE:20240421
DTEND;VALUE=DATE:20240422
DTSTAMP:20260424T191026
CREATED:20231228T165633Z
LAST-MODIFIED:20240112T003625Z
UID:26727-1713657600-1713743999@wdafl.org
SUMMARY:Dancing Horse Dressage Schooling Show - April
DESCRIPTION:Dancing Horse Dressage and CT invites you to a Dressage Schooling Show at Wickham Park! A variety of dressage classes will be offered including classes for Western dressage. First place award and ribbons are given for first through sixth place\, as well as prizes for daily high scores at 5 levels. The show is Jockey Club TIP approved and the overall high score TIP registered horse and rider combination will also be awarded. See Prize List for details. This show is part of a 3 Show Series which offers Year End Awards!
URL:https://wdafl.org/show/dancing-horse-dressage-schooling-show-april/
LOCATION:Wickham Park Equestrian Center 2500 Parkway Drive Melbourne\, FL\, 2500 Parkway Drive\, Melbourne\,\, FL\, United States
CATEGORIES:Classical Dressage Show with WD Classes
ATTACH;FMTTYPE=image/jpeg:https://wdafl.org/wp-content/uploads/2023/12/DHD-Logo-Oct-2022-3-1.jpg
ORGANIZER;CN="Dancing Horse Dressage":MAILTO:showsecretary@dancinghorsedressage.org
END:VEVENT
BEGIN:VEVENT
DTSTART;VALUE=DATE:20240324
DTEND;VALUE=DATE:20240325
DTSTAMP:20260424T191026
CREATED:20231228T165605Z
LAST-MODIFIED:20240112T003432Z
UID:26721-1711238400-1711324799@wdafl.org
SUMMARY:Dancing Horse Dressage Schooling Show - March
DESCRIPTION:Dancing Horse Dressage and CT invites you to a Dressage Schooling Show at Wickham Park! A variety of dressage classes will be offered including classes for Western dressage. First place award and ribbons are given for first through sixth place\, as well as prizes for daily high scores at 5 levels. The show is Jockey Club TIP approved and the overall high score TIP registered horse and rider combination will also be awarded. See Prize List for details. This show is part of a 3 Show Series which offers Year End Awards! \nShow Judge Name:  Carol Bulmer \n 
URL:https://wdafl.org/show/dancing-horse-dressage-schooling-show-march/
LOCATION:Wickham Park Equestrian Center 2500 Parkway Drive Melbourne\, FL\, 2500 Parkway Drive\, Melbourne\,\, FL\, United States
CATEGORIES:Classical Dressage Show with WD Classes
ATTACH;FMTTYPE=image/jpeg:https://wdafl.org/wp-content/uploads/2023/12/DHD-Logo-Oct-2022-2-1.jpg
ORGANIZER;CN="Dancing Horse Dressage":MAILTO:showsecretary@dancinghorsedressage.org
END:VEVENT
BEGIN:VEVENT
DTSTART;VALUE=DATE:20240317
DTEND;VALUE=DATE:20240318
DTSTAMP:20260424T191026
CREATED:20240212T201046Z
LAST-MODIFIED:20240212T221014Z
UID:26862-1710633600-1710719999@wdafl.org
SUMMARY:Alpha Dressage March Schooling Show
DESCRIPTION:Traditional and Western Dressage Schooling Show at Triple J Ranch\nJudge   Heather Stalker\, USDF/USEF R & WDAA R
URL:https://wdafl.org/show/alpha-dressage-march-schooling-show/
LOCATION:Triple J Ranch\, 861 Sinclair Road\, Sarasota\, FL\, 34240\, United States
CATEGORIES:Classical Dressage Show with WD Classes
ATTACH;FMTTYPE=image/jpeg:https://wdafl.org/wp-content/uploads/2022/04/Alpha-DrassageLogo.jpg
ORGANIZER;CN="Alpha Dressage":MAILTO:alphadressage@gmail.com
END:VEVENT
BEGIN:VEVENT
DTSTART;VALUE=DATE:20240225
DTEND;VALUE=DATE:20240226
DTSTAMP:20260424T191026
CREATED:20231228T165540Z
LAST-MODIFIED:20240112T003039Z
UID:26715-1708819200-1708905599@wdafl.org
SUMMARY:Dancing Horse Dressage Schooling Show - February
DESCRIPTION:Dancing Horse Dressage and CT invites you to a Dressage Schooling Show at Wickham Park! A variety of dressage classes will be offered including classes for Western dressage. First place award and ribbons are given for first through sixth place\, as well as prizes for daily high scores at 5 levels. The show is Jockey Club TIP approved and the overall high score TIP registered horse and rider combination will also be awarded. See Prize List for details. This show is part of a 3 Show Series which offers Year End Awards! \n 
URL:https://wdafl.org/show/dancing-horse-dressage-schooling-show-february/
LOCATION:Wickham Park Equestrian Center 2500 Parkway Drive Melbourne\, FL\, 2500 Parkway Drive\, Melbourne\,\, FL\, United States
CATEGORIES:Classical Dressage Show with WD Classes
ATTACH;FMTTYPE=image/jpeg:https://wdafl.org/wp-content/uploads/2023/12/DHD-Logo-Oct-2022-1.jpg
ORGANIZER;CN="Dancing Horse Dressage":MAILTO:showsecretary@dancinghorsedressage.org
END:VEVENT
BEGIN:VEVENT
DTSTART;VALUE=DATE:20230212
DTEND;VALUE=DATE:20230213
DTSTAMP:20260424T191026
CREATED:20230106T183938Z
LAST-MODIFIED:20230106T222348Z
UID:25920-1676160000-1676246399@wdafl.org
SUMMARY:Alpha Dressage Association February Schooling Show
DESCRIPTION:WDAA Recognized Show #23-139 \n» Download Showbill \nShow Date: February 12\, 2023\nEntries Open: December 27\, 2022\nEntries Close: February 7\, 2023\nLate Entries: (subject to availability and payment of a late fee of $10 per class) \nRULES AND GUIDELINES \nNew rules that ADA will be enforcing:\n1. JR/AA/Open divisions will be placed separately.\n2. All riders must have completed all release forms\, whether competing or not. (This also applies to trainers schooling client horses.)\n3. Bridle numbers must be on the horse when mounted.\n4. Maximum of three rides per horse/rider combination\n5. Maximum of three classes per horse \nEntries: Entries for competing and non-competing (schooling horses) must include a current Coggins. All riders and trainers that will be schooling/warming up horses need to submit an ADA and a Triple J liability release via Equestrian Entries prior to the show. Forms are found on the www.alphadresage.org/shows website. Once your key paperwork (Coggins\, liability releases\, etc.) is uploaded\, it is there for each show until it expires. No refunds for any reason after closing date. For all questions related to entries please direct them to ADAentries@gmail.com. \nOnline Entries: Online entries and payment will only be accepted by Equestrian Entries. Follow this link → https://www.equestrianentries.com/login. Sign yourself up to be a new member. You must also sign up your horse and your trainer. If you do not have a trainer\, sign yourself up as trainer. Then\, look for the show dates and select our ADA schooling show. If you need help\, please call Danielle at 941-321-2469.
URL:https://wdafl.org/show/alpha-dressage-association-february-schooling-show/
LOCATION:Triple J Ranch\, 861 Sinclair Road\, Sarasota\, FL\, 34240\, United States
CATEGORIES:Classical Dressage Show with WD Classes
ATTACH;FMTTYPE=image/jpeg:https://wdafl.org/wp-content/uploads/2022/04/Alpha-DrassageLogo.jpg
ORGANIZER;CN="Alpha Dressage":MAILTO:alphadressage@gmail.com
END:VEVENT
BEGIN:VEVENT
DTSTART;VALUE=DATE:20221021
DTEND;VALUE=DATE:20221024
DTSTAMP:20260424T191026
CREATED:20220116T230220Z
LAST-MODIFIED:20220303T154444Z
UID:24693-1666310400-1666569599@wdafl.org
SUMMARY:OAHC Sport Horse Spooktacular
DESCRIPTION:Arabian sport horse show with open breed opportunity classes and open breed rated western dressage
URL:https://wdafl.org/show/oahc-sport-horse-spooktacular-2/
LOCATION:Clarcona Horse Park\, 3535 Damon road\, Apopka\, Florida\, 32712
CATEGORIES:Classical Dressage Show with WD Classes
ATTACH;FMTTYPE=image/jpeg:https://wdafl.org/wp-content/uploads/2021/01/Orlando-Arabian-Horse-Club.jpg
ORGANIZER;CN="Orlando Arabian Horse Club":MAILTO:info@orlandoarabianhorseclub.com
END:VEVENT
BEGIN:VEVENT
DTSTART;TZID=America/New_York:20220501T000000
DTEND;TZID=America/New_York:20220501T000000
DTSTAMP:20260424T191026
CREATED:20220401T161441Z
LAST-MODIFIED:20220403T193421Z
UID:25359-1651363200-1651363200@wdafl.org
SUMMARY:Alpha Dressage Schooling Show
DESCRIPTION:Schooling show with traditional and western classes. \n» Download Showbill \nEntries: Entries for competing and non-competing (schooling horses) must include a current Coggins. All riders and trainers that will be schooling/warming up horses need to submit an ADA and a Triple J liability release via Equestrian Entries prior to the show. Forms are found on the www.alphadresage.org/shows website. Once your key paperwork (Coggins\, liability releases\, etc.) is uploaded\, it is there for each show until it expires. No refunds for any reason after closing date. For all questions related to entries please direct them to ADAentries@gmail.com. \nOnline Entries Online entries and payment will only be accepted by Equestrian Entries. Follow this link → https://www.equestrianentries.com/login. Sign yourself up to be a new member. You must also sign up your horse and your trainer. If you do not have a trainer\, sign yourself up as trainer. Then\, look for the show dates and select our ADA schooling show. If you need help\, please call Suzi at 256-652-5950.
URL:https://wdafl.org/show/alpha-dressage-schooling-show/
LOCATION:Triple J Ranch\, 861 Sinclair Road\, Sarasota\, FL\, 34240\, United States
CATEGORIES:Classical Dressage Show with WD Classes
ATTACH;FMTTYPE=image/jpeg:https://wdafl.org/wp-content/uploads/2022/04/Alpha-DrassageLogo.jpg
ORGANIZER;CN="Alpha Dressage":MAILTO:alphadressage@gmail.com
END:VEVENT
BEGIN:VEVENT
DTSTART;VALUE=DATE:20220414
DTEND;VALUE=DATE:20220417
DTSTAMP:20260424T191026
CREATED:20220118T211633Z
LAST-MODIFIED:20220303T154517Z
UID:24710-1649894400-1650153599@wdafl.org
SUMMARY:Citrus Cup
DESCRIPTION:USEF Morgan Regional Championship show with open breed classes and Western Dressage Division \nWestern Dressage Association Recognized (#21-175) \nShow Judge: Heather Stalker \nHost Hotel:\nGATEWAY BEST WESTERN\n352-331-3336 toll free 877-464-2378\nNOTE: Make your reservations early!Florida Morgan Horse Association
URL:https://wdafl.org/show/citrus-cup/
LOCATION:Alachua County Agricultural and Equestrian Center\, 28031 W Newberry Rd\, Newberry\, Florida\, 32669-2604
CATEGORIES:Classical Dressage Show with WD Classes
ATTACH;FMTTYPE=image/png:https://wdafl.org/wp-content/uploads/2017/11/CitrusCup-logo-267x300.png
END:VEVENT
END:VCALENDAR