BEGIN:VCALENDAR
VERSION:2.0
PRODID:-//Western Dressage Association of Florida - ECPv6.15.20//NONSGML v1.0//EN
CALSCALE:GREGORIAN
METHOD:PUBLISH
X-ORIGINAL-URL:https://wdafl.org
X-WR-CALDESC:Events for Western Dressage Association of Florida
REFRESH-INTERVAL;VALUE=DURATION:PT1H
X-Robots-Tag:noindex
X-PUBLISHED-TTL:PT1H
BEGIN:VTIMEZONE
TZID:America/New_York
BEGIN:DAYLIGHT
TZOFFSETFROM:-0500
TZOFFSETTO:-0400
TZNAME:EDT
DTSTART:20210314T070000
END:DAYLIGHT
BEGIN:STANDARD
TZOFFSETFROM:-0400
TZOFFSETTO:-0500
TZNAME:EST
DTSTART:20211107T060000
END:STANDARD
BEGIN:DAYLIGHT
TZOFFSETFROM:-0500
TZOFFSETTO:-0400
TZNAME:EDT
DTSTART:20220313T070000
END:DAYLIGHT
BEGIN:STANDARD
TZOFFSETFROM:-0400
TZOFFSETTO:-0500
TZNAME:EST
DTSTART:20221106T060000
END:STANDARD
BEGIN:DAYLIGHT
TZOFFSETFROM:-0500
TZOFFSETTO:-0400
TZNAME:EDT
DTSTART:20230312T070000
END:DAYLIGHT
BEGIN:STANDARD
TZOFFSETFROM:-0400
TZOFFSETTO:-0500
TZNAME:EST
DTSTART:20231105T060000
END:STANDARD
END:VTIMEZONE
BEGIN:VEVENT
DTSTART;VALUE=DATE:20220414
DTEND;VALUE=DATE:20220417
DTSTAMP:20260424T204133
CREATED:20220118T211633Z
LAST-MODIFIED:20220303T154517Z
UID:24710-1649894400-1650153599@wdafl.org
SUMMARY:Citrus Cup
DESCRIPTION:USEF Morgan Regional Championship show with open breed classes and Western Dressage Division \nWestern Dressage Association Recognized (#21-175) \nShow Judge: Heather Stalker \nHost Hotel:\nGATEWAY BEST WESTERN\n352-331-3336 toll free 877-464-2378\nNOTE: Make your reservations early!Florida Morgan Horse Association
URL:https://wdafl.org/show/citrus-cup/
LOCATION:Alachua County Agricultural and Equestrian Center\, 28031 W Newberry Rd\, Newberry\, Florida\, 32669-2604
CATEGORIES:Classical Dressage Show with WD Classes
ATTACH;FMTTYPE=image/png:https://wdafl.org/wp-content/uploads/2017/11/CitrusCup-logo-267x300.png
END:VEVENT
END:VCALENDAR