BEGIN:VCALENDAR
VERSION:2.0
PRODID:-//Western Dressage Association of Florida - ECPv6.15.20//NONSGML v1.0//EN
CALSCALE:GREGORIAN
METHOD:PUBLISH
X-ORIGINAL-URL:https://wdafl.org
X-WR-CALDESC:Events for Western Dressage Association of Florida
REFRESH-INTERVAL;VALUE=DURATION:PT1H
X-Robots-Tag:noindex
X-PUBLISHED-TTL:PT1H
BEGIN:VTIMEZONE
TZID:America/New_York
BEGIN:DAYLIGHT
TZOFFSETFROM:-0500
TZOFFSETTO:-0400
TZNAME:EDT
DTSTART:20230312T070000
END:DAYLIGHT
BEGIN:STANDARD
TZOFFSETFROM:-0400
TZOFFSETTO:-0500
TZNAME:EST
DTSTART:20231105T060000
END:STANDARD
BEGIN:DAYLIGHT
TZOFFSETFROM:-0500
TZOFFSETTO:-0400
TZNAME:EDT
DTSTART:20240310T070000
END:DAYLIGHT
BEGIN:STANDARD
TZOFFSETFROM:-0400
TZOFFSETTO:-0500
TZNAME:EST
DTSTART:20241103T060000
END:STANDARD
BEGIN:DAYLIGHT
TZOFFSETFROM:-0500
TZOFFSETTO:-0400
TZNAME:EDT
DTSTART:20250309T070000
END:DAYLIGHT
BEGIN:STANDARD
TZOFFSETFROM:-0400
TZOFFSETTO:-0500
TZNAME:EST
DTSTART:20251102T060000
END:STANDARD
END:VTIMEZONE
BEGIN:VEVENT
DTSTART;TZID=America/New_York:20241208T000000
DTEND;TZID=America/New_York:20241208T000000
DTSTAMP:20260425T222526
CREATED:20240716T010130Z
LAST-MODIFIED:20240716T124951Z
UID:27259-1733616000-1733616000@wdafl.org
SUMMARY:STRIDE Schooling Show - December
DESCRIPTION:Schooling Show offering Traditional\, Western and Gaited Dressage \nShow Judge: Jodi Ely “S” and Trisha DeRosa “L”
URL:https://wdafl.org/show/stride-schooling-show-december/
LOCATION:Florida Horse Park\, 11008 S. County Road 475A\, Ocala\, FL\, 34480\, United States
CATEGORIES:Schooling Show
ATTACH;FMTTYPE=image/jpeg:https://wdafl.org/wp-content/uploads/2023/05/STRIDE_Logo.jpg
ORGANIZER;CN="Stride":MAILTO:stridesecretary@gmail.com
END:VEVENT
END:VCALENDAR