BEGIN:VCALENDAR
VERSION:2.0
PRODID:-//Western Dressage Association of Florida - ECPv6.15.20//NONSGML v1.0//EN
CALSCALE:GREGORIAN
METHOD:PUBLISH
X-WR-CALNAME:Western Dressage Association of Florida
X-ORIGINAL-URL:https://wdafl.org
X-WR-CALDESC:Events for Western Dressage Association of Florida
REFRESH-INTERVAL;VALUE=DURATION:PT1H
X-Robots-Tag:noindex
X-PUBLISHED-TTL:PT1H
BEGIN:VTIMEZONE
TZID:America/New_York
BEGIN:DAYLIGHT
TZOFFSETFROM:-0500
TZOFFSETTO:-0400
TZNAME:EDT
DTSTART:20240310T070000
END:DAYLIGHT
BEGIN:STANDARD
TZOFFSETFROM:-0400
TZOFFSETTO:-0500
TZNAME:EST
DTSTART:20241103T060000
END:STANDARD
BEGIN:DAYLIGHT
TZOFFSETFROM:-0500
TZOFFSETTO:-0400
TZNAME:EDT
DTSTART:20250309T070000
END:DAYLIGHT
BEGIN:STANDARD
TZOFFSETFROM:-0400
TZOFFSETTO:-0500
TZNAME:EST
DTSTART:20251102T060000
END:STANDARD
BEGIN:DAYLIGHT
TZOFFSETFROM:-0500
TZOFFSETTO:-0400
TZNAME:EDT
DTSTART:20260308T070000
END:DAYLIGHT
BEGIN:STANDARD
TZOFFSETFROM:-0400
TZOFFSETTO:-0500
TZNAME:EST
DTSTART:20261101T060000
END:STANDARD
END:VTIMEZONE
BEGIN:VEVENT
DTSTART;TZID=America/New_York:20250928T000000
DTEND;TZID=America/New_York:20250928T235959
DTSTAMP:20260425T085026
CREATED:20250905T140558Z
LAST-MODIFIED:20250905T140558Z
UID:28633-1759017600-1759103999@wdafl.org
SUMMARY:WTCA Dressage Schooling Show September 28\, 2025
DESCRIPTION:Schooling Dressage classes – USDF\, USEF\, USEA\, FEI\, WDAA\, Gaited\, and USAWE (need another type of test? ask us if we can offer it!) \n\n\n\nShow starts at 8am – Judge(s) – Dee Loveless \n\n\n\nDressage show entries accepted without a late fee until 11:59 PM Saturday\, September 20\, 2025. Late fee will be charged beginning 12:00 AM Sunday September 21\, 2025. \n\n\n\nDressage classes are numbered 100-146. \n\n\n\nNon-competing horses please use class 1001. Non-competing horses must have their own entry. \n\n\n\nWe are a Florida Horse Trials Association approved Dressage Show. \n\n\n\nThe last day to submit online entries is Sept 26\, 2025. \n\n\n\nDressage Show Bill\n\nOnline Signup at RingRadar.com
URL:https://wdafl.org/show/wtca-dressage-schooling-show-september-28-2025-2/
LOCATION:Alachua County Agricultural and Equestrian Center\, 28031 W Newberry Rd\, Newberry\, Florida\, 32669-2604
CATEGORIES:Schooling Show
ATTACH;FMTTYPE=image/jpeg:https://wdafl.org/wp-content/uploads/2025/09/WTCA-full-logo-2-1.jpg
ORGANIZER;CN="Walk Trot Canter Association":MAILTO:info@walktrotcanter.org
END:VEVENT
END:VCALENDAR