BEGIN:VCALENDAR
VERSION:2.0
PRODID:-//Western Dressage Association of Florida - ECPv6.15.20//NONSGML v1.0//EN
CALSCALE:GREGORIAN
METHOD:PUBLISH
X-ORIGINAL-URL:https://wdafl.org
X-WR-CALDESC:Events for Western Dressage Association of Florida
REFRESH-INTERVAL;VALUE=DURATION:PT1H
X-Robots-Tag:noindex
X-PUBLISHED-TTL:PT1H
BEGIN:VTIMEZONE
TZID:America/New_York
BEGIN:DAYLIGHT
TZOFFSETFROM:-0500
TZOFFSETTO:-0400
TZNAME:EDT
DTSTART:20220313T070000
END:DAYLIGHT
BEGIN:STANDARD
TZOFFSETFROM:-0400
TZOFFSETTO:-0500
TZNAME:EST
DTSTART:20221106T060000
END:STANDARD
BEGIN:DAYLIGHT
TZOFFSETFROM:-0500
TZOFFSETTO:-0400
TZNAME:EDT
DTSTART:20230312T070000
END:DAYLIGHT
BEGIN:STANDARD
TZOFFSETFROM:-0400
TZOFFSETTO:-0500
TZNAME:EST
DTSTART:20231105T060000
END:STANDARD
BEGIN:DAYLIGHT
TZOFFSETFROM:-0500
TZOFFSETTO:-0400
TZNAME:EDT
DTSTART:20240310T070000
END:DAYLIGHT
BEGIN:STANDARD
TZOFFSETFROM:-0400
TZOFFSETTO:-0500
TZNAME:EST
DTSTART:20241103T060000
END:STANDARD
BEGIN:DAYLIGHT
TZOFFSETFROM:-0500
TZOFFSETTO:-0400
TZNAME:EDT
DTSTART:20250309T070000
END:DAYLIGHT
BEGIN:STANDARD
TZOFFSETFROM:-0400
TZOFFSETTO:-0500
TZNAME:EST
DTSTART:20251102T060000
END:STANDARD
BEGIN:DAYLIGHT
TZOFFSETFROM:-0500
TZOFFSETTO:-0400
TZNAME:EDT
DTSTART:20260308T070000
END:DAYLIGHT
BEGIN:STANDARD
TZOFFSETFROM:-0400
TZOFFSETTO:-0500
TZNAME:EST
DTSTART:20261101T060000
END:STANDARD
END:VTIMEZONE
BEGIN:VEVENT
DTSTART;TZID=America/New_York:20251109T000000
DTEND;TZID=America/New_York:20251109T235959
DTSTAMP:20260424T175632
CREATED:20250905T133757Z
LAST-MODIFIED:20250905T140238Z
UID:28624-1762646400-1762732799@wdafl.org
SUMMARY:WTCA Dressage Schooling Show November 9\, 2025
DESCRIPTION:Schooling Dressage classes – USDF\, USEF\, USEA\, FEI\, WDAA\, Gaited\, and USAWE  \n\n\n\nJudge(s) – Tara Manion \n\n\n\n\n\nDressage Show Bill\n\nOnline Signup at RingRadar.com
URL:https://wdafl.org/show/wtca-dressage-schooling-show-september-28-2025/
LOCATION:Alachua County Agricultural and Equestrian Center\, 28031 W Newberry Rd\, Newberry\, Florida\, 32669-2604
CATEGORIES:Schooling Show
ATTACH;FMTTYPE=image/jpeg:https://wdafl.org/wp-content/uploads/2025/09/WTCA-full-logo-2-1.jpg
ORGANIZER;CN="Walk Trot Canter Association":MAILTO:info@walktrotcanter.org
END:VEVENT
BEGIN:VEVENT
DTSTART;TZID=America/New_York:20250928T000000
DTEND;TZID=America/New_York:20250928T235959
DTSTAMP:20260424T175632
CREATED:20250905T140558Z
LAST-MODIFIED:20250905T140558Z
UID:28633-1759017600-1759103999@wdafl.org
SUMMARY:WTCA Dressage Schooling Show September 28\, 2025
DESCRIPTION:Schooling Dressage classes – USDF\, USEF\, USEA\, FEI\, WDAA\, Gaited\, and USAWE (need another type of test? ask us if we can offer it!) \n\n\n\nShow starts at 8am – Judge(s) – Dee Loveless \n\n\n\nDressage show entries accepted without a late fee until 11:59 PM Saturday\, September 20\, 2025. Late fee will be charged beginning 12:00 AM Sunday September 21\, 2025. \n\n\n\nDressage classes are numbered 100-146. \n\n\n\nNon-competing horses please use class 1001. Non-competing horses must have their own entry. \n\n\n\nWe are a Florida Horse Trials Association approved Dressage Show. \n\n\n\nThe last day to submit online entries is Sept 26\, 2025. \n\n\n\nDressage Show Bill\n\nOnline Signup at RingRadar.com
URL:https://wdafl.org/show/wtca-dressage-schooling-show-september-28-2025-2/
LOCATION:Alachua County Agricultural and Equestrian Center\, 28031 W Newberry Rd\, Newberry\, Florida\, 32669-2604
CATEGORIES:Schooling Show
ATTACH;FMTTYPE=image/jpeg:https://wdafl.org/wp-content/uploads/2025/09/WTCA-full-logo-2-1.jpg
ORGANIZER;CN="Walk Trot Canter Association":MAILTO:info@walktrotcanter.org
END:VEVENT
BEGIN:VEVENT
DTSTART;TZID=America/New_York:20250615T000000
DTEND;TZID=America/New_York:20250615T235959
DTSTAMP:20260424T175632
CREATED:20250520T131727Z
LAST-MODIFIED:20250520T133139Z
UID:28469-1749945600-1750031999@wdafl.org
SUMMARY:WTCA Dressage Schooling Show June 2025
DESCRIPTION:WTCA Dressage Schooling Show June 2025 \n\n\n\nOnline Signup found on RingRadar.com \n\n\n\nDATE of SHOW: Sunday\, June 15\, 2025 CLOSING DATE: Saturday\, June 7\, 2025 at 11:59 PM \n\n\n\nShowbill
URL:https://wdafl.org/show/wtca-dressage-schooling-show-june-2025/
LOCATION:Alachua County Agricultural and Equestrian Center\, 28031 W Newberry Rd\, Newberry\, Florida\, 32669-2604
CATEGORIES:Schooling Show
ATTACH;FMTTYPE=image/jpeg:https://wdafl.org/wp-content/uploads/2025/05/WTCA-full-logo.jpg
ORGANIZER;CN="Walk Trot Canter Association":MAILTO:info@walktrotcanter.org
END:VEVENT
BEGIN:VEVENT
DTSTART;TZID=America/New_York:20250223T000000
DTEND;TZID=America/New_York:20250223T235959
DTSTAMP:20260424T175632
CREATED:20250124T185018Z
LAST-MODIFIED:20250124T185020Z
UID:28199-1740268800-1740355199@wdafl.org
SUMMARY:Alpha Dressage Schooling Show - February 2025
DESCRIPTION:Dressage schooling show with classical and western classes. \nShow Date: Feb. 23\, 2025Entries Open: Jan. 24\, 2025Entries Close: Feb. 17\, 2025Late Entries: Feb. 18\, 2025subject to availability and payment of a late fee of $10 per entry \nJudge: Heather Stalker \n 
URL:https://wdafl.org/show/alpha-dressage-schooling-show-february-2025/
LOCATION:Triple J Ranch\, 861 Sinclair Road\, Sarasota\, FL\, 34240\, United States
CATEGORIES:Classical Dressage Show with WD Classes,Schooling Show
ATTACH;FMTTYPE=image/jpeg:https://wdafl.org/wp-content/uploads/2024/09/LOGO-2-1.jpg
ORGANIZER;CN="Alpha Dressage":MAILTO:alphadressage@gmail.com
END:VEVENT
BEGIN:VEVENT
DTSTART;TZID=America/New_York:20241208T000000
DTEND;TZID=America/New_York:20241208T000000
DTSTAMP:20260424T175632
CREATED:20240716T010130Z
LAST-MODIFIED:20240716T124951Z
UID:27259-1733616000-1733616000@wdafl.org
SUMMARY:STRIDE Schooling Show - December
DESCRIPTION:Schooling Show offering Traditional\, Western and Gaited Dressage \nShow Judge: Jodi Ely “S” and Trisha DeRosa “L”
URL:https://wdafl.org/show/stride-schooling-show-december/
LOCATION:Florida Horse Park\, 11008 S. County Road 475A\, Ocala\, FL\, 34480\, United States
CATEGORIES:Schooling Show
ATTACH;FMTTYPE=image/jpeg:https://wdafl.org/wp-content/uploads/2023/05/STRIDE_Logo.jpg
ORGANIZER;CN="Stride":MAILTO:stridesecretary@gmail.com
END:VEVENT
BEGIN:VEVENT
DTSTART;VALUE=DATE:20241117
DTEND;VALUE=DATE:20241118
DTSTAMP:20260424T175632
CREATED:20240913T145808Z
LAST-MODIFIED:20240913T145808Z
UID:27368-1731801600-1731887999@wdafl.org
SUMMARY:Alpha Dressage Schooling Show - November
DESCRIPTION:Dressage schooling show with classical and western classes. \nShow Date: Nov. 17\, 2024\nEntries Open: Oct. 2024\nEntries Close: Nov. 10\, 2024\nLate Entries: Oct. 21\, 2 subject to availability and payment of a late fee of $10 per class \nJudge: Judy Downer\, USEF “S” Dressage and “R”   Western Dressage Judge \nEntries Process:\nEntries will only be accepted by Equestrian Entries\nRefer to class list on Equestrian Entries for a list of all classes offered at this show.
URL:https://wdafl.org/show/alpha-dressage-schooling-show-november/
LOCATION:Triple J Ranch\, 861 Sinclair Road\, Sarasota\, FL\, 34240\, United States
CATEGORIES:Schooling Show
ATTACH;FMTTYPE=image/jpeg:https://wdafl.org/wp-content/uploads/2024/09/LOGO-2-1.jpg
ORGANIZER;CN="Alpha Dressage":MAILTO:alphadressage@gmail.com
END:VEVENT
BEGIN:VEVENT
DTSTART;VALUE=DATE:20241027
DTEND;VALUE=DATE:20241028
DTSTAMP:20260424T175632
CREATED:20240913T144626Z
LAST-MODIFIED:20240913T145842Z
UID:27362-1729987200-1730073599@wdafl.org
SUMMARY:Alpha Dressage Schooling Show - October
DESCRIPTION:Dressage schooling show with classical and western classes. \nShow Date: Oct. 27\, 2024\nEntries Open:  Sept. 28\, 2024\nEntries Close: Oct. 20\, 2024\nLate Entries: Oct. 21\, 2 subject to availability and payment of a late fee of $10 per class \nJudge: Charlotte Trentelman\, USEF “R” Western\, USEF “S” \nEntries Process:\nEntries will only be accepted by Equestrian Entries\nRefer to class list on Equestrian Entries for a list of all classes offered at this show.
URL:https://wdafl.org/show/alpha-dressage-schooling-show-october/
LOCATION:Triple J Ranch\, 861 Sinclair Road\, Sarasota\, FL\, 34240\, United States
CATEGORIES:Schooling Show
ATTACH;FMTTYPE=image/jpeg:https://wdafl.org/wp-content/uploads/2024/09/LOGO-2-1.jpg
ORGANIZER;CN="Alpha Dressage":MAILTO:alphadressage@gmail.com
END:VEVENT
BEGIN:VEVENT
DTSTART;VALUE=DATE:20240929
DTEND;VALUE=DATE:20240930
DTSTAMP:20260424T175632
CREATED:20240715T233039Z
LAST-MODIFIED:20240716T125035Z
UID:27255-1727568000-1727654399@wdafl.org
SUMMARY:STRIDE Schooling Show -September
DESCRIPTION:Schooling Show offering – Traditional\, Western\, Gaited Dressage \nShow Judges: Dot Demis “S” and Carol Bulmer “L”
URL:https://wdafl.org/show/stride-schooling-show-september/
LOCATION:Florida Horse Park\, 11008 S. County Road 475A\, Ocala\, FL\, 34480\, United States
CATEGORIES:Schooling Show
ATTACH;FMTTYPE=image/jpeg:https://wdafl.org/wp-content/uploads/2023/05/STRIDE_Logo.jpg
ORGANIZER;CN="Stride":MAILTO:stridesecretary@gmail.com
END:VEVENT
BEGIN:VEVENT
DTSTART;VALUE=DATE:20240512
DTEND;VALUE=DATE:20240513
DTSTAMP:20260424T175632
CREATED:20240206T130148Z
LAST-MODIFIED:20240206T130148Z
UID:26855-1715472000-1715558399@wdafl.org
SUMMARY:2024 STRIDE Schooling Show #5
DESCRIPTION:Schooling show offering Western Dressage\, Traditional Dressage\, Driven Dressage and Gaited Dressage tests \nThe STRIDE Schooling Show Series presented by Stride Dressage of Ocala\, a volunteer run GMO\, promoting traditional dressage\, western dressage\, and driven dressage. Schooling shows offer classes in all these as well as gaited\, working equitation and USEA dressage\, driven cones and various versatility classes. Members enjoy discounted entry fees\, Year End Awards\, and discounts from our many sponsors. Non-members and competitors of all ages and skill levels are welcome at our shows.
URL:https://wdafl.org/show/2024-stride-schooling-show-5/
LOCATION:Florida Horse Park\, 11008 S. County Road 475A\, Ocala\, FL\, 34480\, United States
CATEGORIES:Schooling Show
ATTACH;FMTTYPE=image/jpeg:https://wdafl.org/wp-content/uploads/2023/05/STRIDE_Logo.jpg
ORGANIZER;CN="Stride":MAILTO:stridesecretary@gmail.com
END:VEVENT
BEGIN:VEVENT
DTSTART;VALUE=DATE:20240310
DTEND;VALUE=DATE:20240311
DTSTAMP:20260424T175632
CREATED:20240205T201830Z
LAST-MODIFIED:20240205T212326Z
UID:26845-1710028800-1710115199@wdafl.org
SUMMARY:2024 STRIDE Schooling Show #4
DESCRIPTION:Schooling show offering Western Dressage\, Traditional Dressage\, Driven Dressage and Gaited Dressage tests \nThe STRIDE Schooling Show Series presented by Stride Dressage of Ocala\, a volunteer run GMO\, promoting traditional dressage\, western dressage\, and driven dressage. Schooling shows offer classes in all these as well as gaited\, working equitation and USEA dressage\, driven cones and various versatility classes. Members enjoy discounted entry fees\, Year End Awards\, and discounts from our many sponsors. Non-members and competitors of all ages and skill levels are welcome at our shows.
URL:https://wdafl.org/show/2024-stride-schooling-show-4/
LOCATION:Florida Horse Park\, 11008 S. County Road 475A\, Ocala\, FL\, 34480\, United States
CATEGORIES:Schooling Show
ATTACH;FMTTYPE=image/jpeg:https://wdafl.org/wp-content/uploads/2023/05/STRIDE_Logo.jpg
ORGANIZER;CN="Stride":MAILTO:stridesecretary@gmail.com
END:VEVENT
BEGIN:VEVENT
DTSTART;VALUE=DATE:20231022
DTEND;VALUE=DATE:20231023
DTSTAMP:20260424T175632
CREATED:20230525T010202Z
LAST-MODIFIED:20230526T143100Z
UID:26296-1697932800-1698019199@wdafl.org
SUMMARY:STRIDE Schooling Show
DESCRIPTION:Schooling Show offering traditional\, western\, driven\, gaited dressage \nShow Judge: Michelle Velasco\n2nd Judge: Tina Drake \nEvent Contact Person: Jennifer Bravick
URL:https://wdafl.org/show/stride-schooling-show-2/
LOCATION:Florida Horse Park\, 11008 S. County Road 475A\, Ocala\, FL\, 34480\, United States
CATEGORIES:Schooling Show
ATTACH;FMTTYPE=image/jpeg:https://wdafl.org/wp-content/uploads/2023/05/STRIDE_Logo.jpg
ORGANIZER;CN="Stride":MAILTO:stridesecretary@gmail.com
END:VEVENT
BEGIN:VEVENT
DTSTART;VALUE=DATE:20230924
DTEND;VALUE=DATE:20230925
DTSTAMP:20260424T175632
CREATED:20230525T010739Z
LAST-MODIFIED:20230526T143249Z
UID:26298-1695513600-1695599999@wdafl.org
SUMMARY:STRIDE Schooling Show
DESCRIPTION:Schooling Show offering traditional\, western\, driven\, gaited dressage \nShow Judge: Michelle Velasco \nEvent Contact Person: Jennifer Bravick
URL:https://wdafl.org/show/stride-schooling-show/
LOCATION:Florida Horse Park\, 11008 S. County Road 475A\, Ocala\, FL\, 34480\, United States
CATEGORIES:Schooling Show
ATTACH;FMTTYPE=image/jpeg:https://wdafl.org/wp-content/uploads/2023/05/STRIDE_Logo.jpg
ORGANIZER;CN="Stride":MAILTO:stridesecretary@gmail.com
END:VEVENT
BEGIN:VEVENT
DTSTART;VALUE=DATE:20230319
DTEND;VALUE=DATE:20230320
DTSTAMP:20260424T175632
CREATED:20230213T202925Z
LAST-MODIFIED:20230213T234022Z
UID:26049-1679184000-1679270399@wdafl.org
SUMMARY:Alpha Dressage Association - March Show
DESCRIPTION:Schooling show located in Sarasota\, FL that has both classical and Western Dressage. Show is WDAA approved. Covered arena\, and covered warm up. High point awards offered\, as well as year end awards for members. \nShow Judge: Michelle Velasco
URL:https://wdafl.org/show/alpha-dressage-association-march-show/
LOCATION:Triple J Ranch\, 861 Sinclair Road\, Sarasota\, FL\, 34240\, United States
CATEGORIES:Schooling Show
ATTACH;FMTTYPE=image/jpeg:https://wdafl.org/wp-content/uploads/2022/04/Alpha-DrassageLogo.jpg
ORGANIZER;CN="Alpha Dressage":MAILTO:alphadressage@gmail.com
END:VEVENT
BEGIN:VEVENT
DTSTART;VALUE=DATE:20230304
DTEND;VALUE=DATE:20230305
DTSTAMP:20260424T175632
CREATED:20230116T161705Z
LAST-MODIFIED:20230117T132645Z
UID:25992-1677888000-1677974399@wdafl.org
SUMMARY:SWDEA Eventing\, Combined Test\, Dressage\, & Jumpers
DESCRIPTION:Judge: Judy Downer “S”\, WDAA “R”\nClosing Date: 5 days prior to the show date \nCategories:\nJunior (12 & Under)\nJunior (13-18)\nAdult\nAmateur\nOpen
URL:https://wdafl.org/show/swdea-eventing-combined-test-dressage-jumpers/
LOCATION:Mahan Farm\, 8150 Mahan Dr \, FL\, Tallahassee\, FL\, 32309
CATEGORIES:Schooling Show
ATTACH;FMTTYPE=image/png:https://wdafl.org/wp-content/uploads/2020/01/SWDEA-LOGO2.png
ORGANIZER;CN="SWDEA - The South Wind Dressage & Eventing  Association%2C Inc.":MAILTO:president@swdea.com
END:VEVENT
BEGIN:VEVENT
DTSTART;VALUE=DATE:20230204
DTEND;VALUE=DATE:20230205
DTSTAMP:20260424T175632
CREATED:20230116T161414Z
LAST-MODIFIED:20230117T133041Z
UID:25989-1675468800-1675555199@wdafl.org
SUMMARY:SWDEA Dressage Show
DESCRIPTION:2023 SWDEA February Dressage Show\nJudge: Charlotte Trentelman “S”/WDAA “R”\n​Closing Date: 1/30/23 \nCategories:\nJunior (12 & Under)\nJunior (13-18)\nAdult\nAmateur\nOpen
URL:https://wdafl.org/show/swdea-dressage-show-2/
LOCATION:Mahan Farm\, 8150 Mahan Dr \, FL\, Tallahassee\, FL\, 32309
CATEGORIES:Schooling Show
ATTACH;FMTTYPE=image/png:https://wdafl.org/wp-content/uploads/2020/01/SWDEA-LOGO2.png
ORGANIZER;CN="SWDEA - The South Wind Dressage & Eventing  Association%2C Inc.":MAILTO:president@swdea.com
END:VEVENT
END:VCALENDAR