BEGIN:VCALENDAR
VERSION:2.0
PRODID:-//Western Dressage Association of Florida - ECPv6.15.20//NONSGML v1.0//EN
CALSCALE:GREGORIAN
METHOD:PUBLISH
X-WR-CALNAME:Western Dressage Association of Florida
X-ORIGINAL-URL:https://wdafl.org
X-WR-CALDESC:Events for Western Dressage Association of Florida
REFRESH-INTERVAL;VALUE=DURATION:PT1H
X-Robots-Tag:noindex
X-PUBLISHED-TTL:PT1H
BEGIN:VTIMEZONE
TZID:America/New_York
BEGIN:DAYLIGHT
TZOFFSETFROM:-0500
TZOFFSETTO:-0400
TZNAME:EDT
DTSTART:20240310T070000
END:DAYLIGHT
BEGIN:STANDARD
TZOFFSETFROM:-0400
TZOFFSETTO:-0500
TZNAME:EST
DTSTART:20241103T060000
END:STANDARD
BEGIN:DAYLIGHT
TZOFFSETFROM:-0500
TZOFFSETTO:-0400
TZNAME:EDT
DTSTART:20250309T070000
END:DAYLIGHT
BEGIN:STANDARD
TZOFFSETFROM:-0400
TZOFFSETTO:-0500
TZNAME:EST
DTSTART:20251102T060000
END:STANDARD
BEGIN:DAYLIGHT
TZOFFSETFROM:-0500
TZOFFSETTO:-0400
TZNAME:EDT
DTSTART:20260308T070000
END:DAYLIGHT
BEGIN:STANDARD
TZOFFSETFROM:-0400
TZOFFSETTO:-0500
TZNAME:EST
DTSTART:20261101T060000
END:STANDARD
END:VTIMEZONE
BEGIN:VEVENT
DTSTART;TZID=America/New_York:20250601T000000
DTEND;TZID=America/New_York:20250713T235959
DTSTAMP:20260425T085500
CREATED:20241125T164047Z
LAST-MODIFIED:20241205T131121Z
UID:27639-1748736000-1752451199@wdafl.org
SUMMARY:WDAFL Flip Flop Fiesta
DESCRIPTION:Western Dressage Online Show\n\n\n\nEntries Open: June 1-30\, 2025Video Submission: through July 13\, 2025Results by: July 24\, 2025Judge: Joyce Swanson – R \n\n\n\nWDAA Recognition #: 25-119FHANA\, AWSSR\, and APHA-PAC recognized \n\n\n\n  \n\n\n\nRegister online at Spotlight Horse Shows\n\nVirtual High Point Rules
URL:https://wdafl.org/show/wdafl-flip-flop-fiesta/
CATEGORIES:Online/Virtual Show,WDAFL Events,Western Dressage Show
ATTACH;FMTTYPE=image/png:https://wdafl.org/wp-content/uploads/2024/11/FlipFlopFiestaQualifying.png
END:VEVENT
END:VCALENDAR