BEGIN:VCALENDAR
VERSION:2.0
PRODID:-//Western Dressage Association of Florida - ECPv6.15.20//NONSGML v1.0//EN
CALSCALE:GREGORIAN
METHOD:PUBLISH
X-ORIGINAL-URL:https://wdafl.org
X-WR-CALDESC:Events for Western Dressage Association of Florida
REFRESH-INTERVAL;VALUE=DURATION:PT1H
X-Robots-Tag:noindex
X-PUBLISHED-TTL:PT1H
BEGIN:VTIMEZONE
TZID:America/New_York
BEGIN:DAYLIGHT
TZOFFSETFROM:-0500
TZOFFSETTO:-0400
TZNAME:EDT
DTSTART:20200308T070000
END:DAYLIGHT
BEGIN:STANDARD
TZOFFSETFROM:-0400
TZOFFSETTO:-0500
TZNAME:EST
DTSTART:20201101T060000
END:STANDARD
BEGIN:DAYLIGHT
TZOFFSETFROM:-0500
TZOFFSETTO:-0400
TZNAME:EDT
DTSTART:20210314T070000
END:DAYLIGHT
BEGIN:STANDARD
TZOFFSETFROM:-0400
TZOFFSETTO:-0500
TZNAME:EST
DTSTART:20211107T060000
END:STANDARD
BEGIN:DAYLIGHT
TZOFFSETFROM:-0500
TZOFFSETTO:-0400
TZNAME:EDT
DTSTART:20220313T070000
END:DAYLIGHT
BEGIN:STANDARD
TZOFFSETFROM:-0400
TZOFFSETTO:-0500
TZNAME:EST
DTSTART:20221106T060000
END:STANDARD
BEGIN:DAYLIGHT
TZOFFSETFROM:-0500
TZOFFSETTO:-0400
TZNAME:EDT
DTSTART:20230312T070000
END:DAYLIGHT
BEGIN:STANDARD
TZOFFSETFROM:-0400
TZOFFSETTO:-0500
TZNAME:EST
DTSTART:20231105T060000
END:STANDARD
BEGIN:DAYLIGHT
TZOFFSETFROM:-0500
TZOFFSETTO:-0400
TZNAME:EDT
DTSTART:20240310T070000
END:DAYLIGHT
BEGIN:STANDARD
TZOFFSETFROM:-0400
TZOFFSETTO:-0500
TZNAME:EST
DTSTART:20241103T060000
END:STANDARD
BEGIN:DAYLIGHT
TZOFFSETFROM:-0500
TZOFFSETTO:-0400
TZNAME:EDT
DTSTART:20250309T070000
END:DAYLIGHT
BEGIN:STANDARD
TZOFFSETFROM:-0400
TZOFFSETTO:-0500
TZNAME:EST
DTSTART:20251102T060000
END:STANDARD
BEGIN:DAYLIGHT
TZOFFSETFROM:-0500
TZOFFSETTO:-0400
TZNAME:EDT
DTSTART:20260308T070000
END:DAYLIGHT
BEGIN:STANDARD
TZOFFSETFROM:-0400
TZOFFSETTO:-0500
TZNAME:EST
DTSTART:20261101T060000
END:STANDARD
BEGIN:DAYLIGHT
TZOFFSETFROM:-0500
TZOFFSETTO:-0400
TZNAME:EDT
DTSTART:20270314T070000
END:DAYLIGHT
BEGIN:STANDARD
TZOFFSETFROM:-0400
TZOFFSETTO:-0500
TZNAME:EST
DTSTART:20271107T060000
END:STANDARD
END:VTIMEZONE
BEGIN:VEVENT
DTSTART;TZID=America/New_York:20260201T000000
DTEND;TZID=America/New_York:20260315T235959
DTSTAMP:20260424T135707
CREATED:20251104T185037Z
LAST-MODIFIED:20251104T192004Z
UID:28939-1769904000-1773619199@wdafl.org
SUMMARY:WDAFL Crazy for Cupid
DESCRIPTION:Western Dressage Online Show\n\n\n\nEntries Open: February 1 – 28\, 2026Video Submission: through March 15\, 2026Results by: March 26\, 2026Judge: Susan Lang – R \n\n\n\nWDAA Recognition #: Applied ForFHANA\, AWSSR\, and APHA-PAC recognized \n\n\n\n  \n\n\n\nRegister online at Spotlight Horse Shows\n\nVirtual High Point Rules
URL:https://wdafl.org/show/wdafl-crazy-for-cupid-2/
CATEGORIES:Online/Virtual Show,WDAFL Events,Western Dressage Show
ATTACH;FMTTYPE=image/png:https://wdafl.org/wp-content/uploads/2024/11/CrazyforCupidQualifying.png
END:VEVENT
BEGIN:VEVENT
DTSTART;TZID=America/New_York:20260109T000000
DTEND;TZID=America/New_York:20260111T235959
DTSTAMP:20260424T135707
CREATED:20250508T164117Z
LAST-MODIFIED:20251008T152411Z
UID:28448-1767916800-1768175999@wdafl.org
SUMMARY:WDAFL 2026 Annual Show
DESCRIPTION:Let the Good Times Roll at the WDAFL 2026 Annual Show! \n\n\n\nMark your calendars for January 9–11\, 2026\, when the Western Dressage Association of Florida transforms the Florida Horse Park in Ocala into a Mardi Gras celebration of horses\, harmony\, and horsemanship! \n\n\n\nThis year’s show theme is Mardi Gras Magic—so grab your beads\, your masks\, and your best parade spirit as you ride down the centerline. From vibrant musical freestyles to the elegance of gaited western dressage\, every test will sparkle with festive flair. \n\n\n\nOur distinguished judges\, Jodi Ely “R” and Cindy Butler “R”\, will preside over the fun\, ensuring a top-notch competition worthy of the carnival spirit. Exhibitors can also look forward to breed awards\, a lively exhibitor’s party\, vendors\, and raffle prizes—all with that signature New Orleans energy. \n\n\n\nBack by Popular Demand: The Stall Decorating Contest!  \n\n\n\nIn the true spirit of Mardi Gras\, we’re bringing back the beloved Stall Decorating Contest. Show off your creativity with beads\, masks\, feathers\, and flair—turn your barn aisle into a Bourbon Street parade! Prizes will be awarded\, bragging rights will be earned\, and the festive atmosphere will be unforgettable. \n\n\n\nWhether you’re riding\, cheering\, or joining the parade from the stands\, come be part of the rhythm\, color\, and joy that only WDAFL can bring. Laissez les bons temps rouler—let the good times roll!
URL:https://wdafl.org/show/wdafl-2026-annual-show/
LOCATION:Florida Horse Park\, 11008 S. County Road 475A\, Ocala\, FL\, 34480\, United States
CATEGORIES:WDAFL Events,Western Dressage Show
ATTACH;FMTTYPE=image/jpeg:https://wdafl.org/wp-content/uploads/2025/05/Annual-Show-flier.jpg
END:VEVENT
BEGIN:VEVENT
DTSTART;TZID=America/New_York:20251201T000000
DTEND;TZID=America/New_York:20251231T235959
DTSTAMP:20260424T135707
CREATED:20251104T184001Z
LAST-MODIFIED:20251104T191828Z
UID:28932-1764547200-1767225599@wdafl.org
SUMMARY:WDAFL Gingerbread Jubilee
DESCRIPTION:Western Dressage Online Show\n\n\n\nJudge: Marie Maloney \n\n\n\nWDAA Recognition #: Applied ForFHANA\, AWSSR\, and APHA-PAC recognized \n\n\n\nQualify Early. Qualify Online. This show is a qualifier for the 2026 US National Dressage Classic Semi-Finals AND the 2026 WDAA World Show. Show High Point prizes for these divisions: Junior\, Amateur\, Open. WDAFL members are also eligible for affiliate year-end awards. Details in prize list. \n\n\n\nFull information and prize list:  https://www.spotlighthorseshows.com/calendar/WDAFL-Gingerbread-Jubilee/2026 \n\n\n\nOpening: Dec 01\, 2025 \n\n\n\nClosing: Dec 31\, 2025 \n\n\n\nVideo Due: Jan 25\, 2026 \n\n\n\nResults By: Feb 05\, 2026 \n\n\n\nResults\n\n\n\n\n\n 
URL:https://wdafl.org/show/wdafl-gingerbread-jubilee-2/
CATEGORIES:Online/Virtual Show,WDAFL Events,Western Dressage Show
ATTACH;FMTTYPE=image/jpeg:https://wdafl.org/wp-content/uploads/2024/11/GingerbreadJubileeQualifying.jpg
END:VEVENT
BEGIN:VEVENT
DTSTART;TZID=America/New_York:20250901T000000
DTEND;TZID=America/New_York:20251012T235959
DTSTAMP:20260424T135707
CREATED:20241125T164746Z
LAST-MODIFIED:20241205T131221Z
UID:27644-1756684800-1760313599@wdafl.org
SUMMARY:WDAFL Harvest Hoopla
DESCRIPTION:Western Dressage Online Show\n\n\n\nEntries Open Dates: September 1 – 30\, 2025Video Submission: through October 12\, 2025Judge: Joann Williams – R \n\n\n\nWDAA Recognized #25-120WDAFL High Point AwardsFHANA\, AWSSR\, and APHA-PAC recognized \n\n\n\n  \n\n\n\nRegister online at Spotlight Horse Shows\n\nVirtual High Point Rules
URL:https://wdafl.org/show/wdafl-harvest-hoopla/
CATEGORIES:Online/Virtual Show,WDAFL Events,Western Dressage Show
ATTACH;FMTTYPE=image/jpeg:https://wdafl.org/wp-content/uploads/2024/11/Harvest-Hoopla.jpg
END:VEVENT
BEGIN:VEVENT
DTSTART;TZID=America/New_York:20250601T000000
DTEND;TZID=America/New_York:20250713T235959
DTSTAMP:20260424T135707
CREATED:20241125T164047Z
LAST-MODIFIED:20241205T131121Z
UID:27639-1748736000-1752451199@wdafl.org
SUMMARY:WDAFL Flip Flop Fiesta
DESCRIPTION:Western Dressage Online Show\n\n\n\nEntries Open: June 1-30\, 2025Video Submission: through July 13\, 2025Results by: July 24\, 2025Judge: Joyce Swanson – R \n\n\n\nWDAA Recognition #: 25-119FHANA\, AWSSR\, and APHA-PAC recognized \n\n\n\n  \n\n\n\nRegister online at Spotlight Horse Shows\n\nVirtual High Point Rules
URL:https://wdafl.org/show/wdafl-flip-flop-fiesta/
CATEGORIES:Online/Virtual Show,WDAFL Events,Western Dressage Show
ATTACH;FMTTYPE=image/png:https://wdafl.org/wp-content/uploads/2024/11/FlipFlopFiestaQualifying.png
END:VEVENT
BEGIN:VEVENT
DTSTART;TZID=America/New_York:20250401T000000
DTEND;TZID=America/New_York:20250511T235959
DTSTAMP:20260424T135707
CREATED:20241125T145759Z
LAST-MODIFIED:20241205T131619Z
UID:27617-1743465600-1747007999@wdafl.org
SUMMARY:WDAFL Ready\, Set\, Bloom
DESCRIPTION:Western Dressage Online Show\n\n\n\nEntries Open: April 1 – 30\, 2025Video Submission: through May 11\, 2025Judge: Shgeila Purdum – R \n\n\n\nWDAFL Virtual Year End High PointWDAA Recognition #: 25-118FHANA\, AWSSR\, and APHA-PAC recognized \n\n\n\n  \n\n\n\nRegister online at Spotlight Horse Shows\n\nVirtual High Point Rules
URL:https://wdafl.org/show/wdafl-ready-set-bloom/
CATEGORIES:Online/Virtual Show,WDAFL Events,Western Dressage Show
ATTACH;FMTTYPE=image/png:https://wdafl.org/wp-content/uploads/2024/11/ReadySetBloomQualifying.png
END:VEVENT
BEGIN:VEVENT
DTSTART;TZID=America/New_York:20250201T000000
DTEND;TZID=America/New_York:20250316T235959
DTSTAMP:20260424T135707
CREATED:20241125T145446Z
LAST-MODIFIED:20241205T131823Z
UID:27611-1738368000-1742169599@wdafl.org
SUMMARY:WDAFL Crazy for Cupid
DESCRIPTION:Western Dressage Online Show\n\n\n\nEntries Open: February 1 – 28\, 2025Video Submission: through March 16\, 2025Results by: March 28\, 205Judge: Sharron Sarchet – R \n\n\n\nWDAA Recognition #: 25-117FHANA\, AWSSR\, and APHA-PAC recognized \n\n\n\n  \n\n\n\nRegister online at Spotlight Horse Shows\n\nVirtual High Point Rules
URL:https://wdafl.org/show/wdafl-crazy-for-cupid/
CATEGORIES:Online/Virtual Show,WDAFL Events,Western Dressage Show
ATTACH;FMTTYPE=image/png:https://wdafl.org/wp-content/uploads/2024/11/CrazyforCupidQualifying.png
END:VEVENT
BEGIN:VEVENT
DTSTART;TZID=America/New_York:20250117T000000
DTEND;TZID=America/New_York:20250119T235959
DTSTAMP:20260424T135707
CREATED:20240910T135222Z
LAST-MODIFIED:20241202T134459Z
UID:27325-1737072000-1737331199@wdafl.org
SUMMARY:WDAFL Annual Show
DESCRIPTION:Annual USEF\, WDAA\, AQHA recognized show and yearly WDAFL awards dinner and meeting \n\n\n\nStart your show year and points by attending The WDAFL Annual Western Dressage Show. This will be held January 17-19\, 2025 at The Florida Horse Park in Ocala\, FL.Hotels and restaurants nearby\, RV hook ups on site.Open to all breeds with Intro to Level 5 being offered. USEF\, WDAA\, AQHAWeekend and daily specialty awards to be offered.Saturday evening will include our annual association meeting and year-end awards presentation.Follow us on Facebook for more information and updates. \n\n\n\nWhat’s New This Year?Team Challenge: Gather your friends and form a team to compete in our exciting new Team Challenge! Work together to showcase your skills and enjoy some friendly competition. Details are available HERE \n\n\n\nWe are honored to welcome Jodi Ely “R”\, Lillian Evaniew-Phelan “R”\, and Patricia Thompson “r” as our official judges for this year’s show. With their extensive expertise and passion for Western Dressage\, we are confident they will make this event even more special. \n\n\n\nSpecial Saturday Night Event:Join us Saturday evening for our Annual Member Meeting and Awards Banquet\, where we’ll celebrate our community and honor recipients of the 2024 Year-End Awards. This is a fantastic opportunity to connect\, celebrate accomplishments\, and share in the joy of Western Dressage! \n\n\n\nHow to Enter:Submitting your entry is quick and easy! Just visit Horse Show Consulting complete the proper online forms\, and secure your spot in the show. \n\n\n\nEntries close on January 9\, 2025. Don’t miss your chance to participate! \n\n\n\nWe can’t wait to see you in the arena for another year of amazing performances and memories. \n\n\n\nBoard of DirectorsWestern Dressage Association of Florida \n\n\n\nA wide range of sponsorships are available.» Sponsor a Show Sponsorship\, Breed\, Division\, or Class \n\n\n\n\n\n\n\n\n\nEnter Now
URL:https://wdafl.org/show/wdafl-annual-show/
LOCATION:Florida Horse Park\, 11008 S. County Road 475A\, Ocala\, FL\, 34480\, United States
CATEGORIES:WDAFL Events,Western Dressage Show
ATTACH;FMTTYPE=image/jpeg:https://wdafl.org/wp-content/uploads/2024/09/2025-Annual-WDAFL-Show.jpg
END:VEVENT
BEGIN:VEVENT
DTSTART;TZID=America/New_York:20241201T000000
DTEND;TZID=America/New_York:20250125T235959
DTSTAMP:20260424T135707
CREATED:20241125T132941Z
LAST-MODIFIED:20250122T214445Z
UID:27593-1733011200-1737849599@wdafl.org
SUMMARY:WDAFL Gingerbread Jubilee
DESCRIPTION:Western Dressage Online Show\n\n\n\nJudge: Fatima Pawlenko-Kranz \n\n\n\nWDAA Recognition #: Applied ForFHANA\, AWSSR\, and APHA-PAC recognized \n\n\n\n \n\n\n\nResults\n\n\n        \n        \n            \n                \n                    \n                        \n\n                                                     \n\n                                            \n                \n            \n        \n    \n\n\n 
URL:https://wdafl.org/show/wdafl-gingerbread-jubilee/
CATEGORIES:Online/Virtual Show,WDAFL Events,Western Dressage Show
ATTACH;FMTTYPE=image/jpeg:https://wdafl.org/wp-content/uploads/2024/11/GingerbreadJubileeQualifying.jpg
END:VEVENT
BEGIN:VEVENT
DTSTART;VALUE=DATE:20240421
DTEND;VALUE=DATE:20240422
DTSTAMP:20260424T135707
CREATED:20240402T190938Z
LAST-MODIFIED:20240402T193146Z
UID:26990-1713657600-1713743999@wdafl.org
SUMMARY:Introduction To Western Dressage
DESCRIPTION:Clinician:  CHARLOTTE TRENTELMAN  \n$40.00 Per Ride Includes lunch and Q&A with Charlotte \nAuditors are welcome\, please bring a chair.\nAlready a dressage rider?  Bring your non-dressage friends! \nCharlotte is an amazing clinician\, “S” Dressage judge (judges through Grand Prix) and “R” Western Dressage judge (judges through Level 5).  She loves to learn and teach\, working with those new to the sport of Dressage.  She lives in the Ocala area. \nSpace is limited for riders.  Please contact Melanie at 239-691-7778 or email mwerst@live.com for more information  \nSponsored by Western Dressage Association of Florida \nRegister
URL:https://wdafl.org/show/register/
LOCATION:Pine Creek Ranch\, 4311 Old Bartow Eagle Lake Rd\, Bartow\, FL\, 33830\, United States
CATEGORIES:WDAFL Events
ATTACH;FMTTYPE=image/jpeg:https://wdafl.org/wp-content/uploads/2024/01/mission-copy.jpg
END:VEVENT
BEGIN:VEVENT
DTSTART;VALUE=DATE:20240119
DTEND;VALUE=DATE:20240121
DTSTAMP:20260424T135707
CREATED:20230628T202401Z
LAST-MODIFIED:20231206T221438Z
UID:26390-1705622400-1705795199@wdafl.org
SUMMARY:The WDAFL Annual Western Dressage Show
DESCRIPTION:The 2024 WDAFL Annual Western Dressage Show\nUSEF Local Member Competition Open to All Breeds\nUSEF #344119 WDAA #24-110 AQHA# TBD \nFlorida Horse Park\n11008 S. County Road 475A\nOcala\, FL 34480 \nOpening Date: December 1\, 2023 Closing Date: January 2\, 2024\nLate Entries: January 5\, 2024 (Late fee applies)\nNo Entries Accepted After January 5\, 2024  \nShow Photographer Keli Wakeley keliwakeleyphotography.com \nJudges\nLynn Newton “R”\, Western Dressage (Rail Classes) Karen Winn “R”\, Western Dressage Janice Mumford “R”\, Western Dressage \nUSEF Steward\nSally Struss\, C2
URL:https://wdafl.org/show/the-wdafl-annual-western-dressage-show/
LOCATION:Florida Horse Park\, 11008 S. County Road 475A\, Ocala\, FL\, 34480\, United States
CATEGORIES:WDAFL Events,Western Dressage Show
ATTACH;FMTTYPE=image/jpeg:https://wdafl.org/wp-content/uploads/2022/07/WDAFL-logo-color.jpg
END:VEVENT
BEGIN:VEVENT
DTSTART;TZID=America/New_York:20230221T190000
DTEND;TZID=America/New_York:20230221T200000
DTSTAMP:20260424T135707
CREATED:20230127T180102Z
LAST-MODIFIED:20230127T192837Z
UID:26028-1677006000-1677009600@wdafl.org
SUMMARY:Western Dressage Association of Florida Virtual Membership Meeting
DESCRIPTION:WDAFL is excited to offer another “NEW”!\nThe WDAFL Annual Show will be moving to January 20 & 21\, 2024. We can’t wait to see you at the Florida Horse\nPark – Ocala\, Florida\nAlong with a “new” date\, this show will be full of new\nopportunities\, entertainment\, and awards galore! We are\nworking on plans and more! \nIn the meantime\nThe WDAFL Board wants to hear from our general\nmembership on ideas/suggestions\, that you would like to see\nhappen at the show and within the club. Contact any Board\nmember or through info@wdafl.org. \nWe are planning a Zoom meeting for everyone!\nYou are invited to join the Western Dressage Association of Florida Virtual Membership Zoom meeting by clicking this link (you will auto join with camera off\, but feel free to turn it on) \nhttps://us02web.zoom.us/j/85365424022\nMeeting ID: 853 6542 4022 \nIf you prefer to join by phone only\, no worries.  Join using either of the numbers below: \n+1 305 224 1968 US\n+1 646 876 9923 US
URL:https://wdafl.org/show/western-dressage-association-of-florida-virtual-membership-meeting/
LOCATION:Zoom
CATEGORIES:WDAFL Events
ATTACH;FMTTYPE=image/png:https://wdafl.org/wp-content/uploads/2023/01/Zoom-logo.png
END:VEVENT
BEGIN:VEVENT
DTSTART;VALUE=DATE:20221029
DTEND;VALUE=DATE:20221031
DTSTAMP:20260424T135707
CREATED:20220730T143110Z
LAST-MODIFIED:20220822T171030Z
UID:25636-1667001600-1667174399@wdafl.org
SUMMARY:2022 WDAFL Annual Show
DESCRIPTION:Join us at The Florida Horse Park\n11008 S. County Road 475A\, Ocala\, FL. 34480\n» Download Showbill / Prizelist \nWDAA (pending) – USEF Local (pending) – AQHA (pending)\n2-day show opened to All Breeds.\nJudges: Janice Mumford “R” – Stephanie Soule “R”\nUSEF Steward: Sally Struss\nManager & Show Secretary: Marie Taylor\nShow Photographer: Keli Wakeley\nSafety Officer: Marie Taylor \nEnjoy a 2-day show filled with prizes and fun!\nFull WDAA\, USEF\, & AQHA points\nAll Levels of Tests\, Rail Classes & Musical Freestyle\nStall decorating\, Trick or Treat\, Costume Class\nVendors welcome \n 
URL:https://wdafl.org/show/2022-wdafl-annual-show/
LOCATION:Florida Horse Park\, 11008 S. County Road 475A\, Ocala\, FL\, 34480\, United States
CATEGORIES:WDAFL Events
ATTACH;FMTTYPE=image/jpeg:https://wdafl.org/wp-content/uploads/2022/07/WDAFL-logo-color.jpg
END:VEVENT
BEGIN:VEVENT
DTSTART;TZID=America/New_York:20220305T090000
DTEND;TZID=America/New_York:20220305T160000
DTSTAMP:20260424T135707
CREATED:20220204T185743Z
LAST-MODIFIED:20220208T020216Z
UID:24777-1646470800-1646496000@wdafl.org
SUMMARY:WDAFL Presents an Educational Event
DESCRIPTION:Featuring Allison Gerlt as Instructor\n[btn text=”Download Flyer and Registration Forms” link=”https://wdafl.org/wp-content/uploads/2022/02/WDAFL-is-sponsoring-an-educational-event-2.pdf” tcolor=”#ffffff” thovercolor=”#ffffff” size=”large” icon=”icon-arrow-right” target=”true”] \nPlease join WDAFL for an educational opportunity with an excellent\, young\, traditiona dressage instructor. You won’t be disappointed in the instructor whether you take the opportunity to ride with her or audit. \nTHE INSTRUCTOR\nAllison Gerlt is head trainer at MapleWork Dressage in Ocala. She has her Bronze\, Silver\, and Gold medals. At 21 years old\, she qualified her first Grand Prix horse in the Developing Grand Prix and qualified twice in the Brentina Cup U25 Grand Prix for Festival of Champions at Lamplight. She qualified for NAJYRC as a 15 and 16 year old. Allison has also competed multiple times in the COi’s in Wellington at both Young Riders and Small Tour. \nTraining upper level horses is not the only thing Allison does\, as she is branching out into developing young horses with her own lineup of youngsters. She has experience in sale-horses and finding horses for clients. In addition to Classical Dressage\, Allison has experience with Western Dressage\, and teaching basic equitation. \nRIDING OPPORTUNITY\nThe first 6 fully registered WDAFL members to apply will be accepted. You must be a current WDAFL member. You will have a 45 minute lesson with Ms. Gerlt. You will be riding in a 100X200 sand/fiber\, fenced arena. This is not a covered arena\, so dress accordingly for the weather. Your lesson fee will be subsidized by WDAFL! Your cost for the lesson will be $25. Lunch will be included. Additional fees charged by the venue for haul in\, stall\, or paddock turnout are your responsibility but will be paid with the registration. \nAUDITING\nThe first 25 fully registered auditors will be accepted. Audit fee for WDAFL members is $5\, $15 for nonmembers. Lunch is included. There is shade available alongside the arena. Please bring your own chair. \nAll RIDERS AND AUDITORS\nAll riders and auditors must submit the applicable registration form\, WDAFL Waiver\, Southern Edge Stables Waiver\, Allison Gerlt Waiver (for riders only)\, AND payment no later than February 19th. FEES ARE NOT REFUNDABLE\, unless the event is canceled by WDAFL\, so be sure you are committed to attending when you submit your registration. \nREGISTRATION SUBMISSION\nSubmit all fully completed registrations to Susan Butler\, 9838 SW 63rd Loop\, Ocala\, FL 34481\, no later than February 19. \nALL AUDITOR AND RIDER ACCEPTED REGISTRATIONS WILL BE NOTIFIED BY EMAIL WITH ADDITIONAL INFORMATION ABOUT ACCESSING THE FARM AND RIDE TIMES \n 
URL:https://wdafl.org/show/wdafl-presents-an-educational-event/
LOCATION:Southern Edge Stables\, 660 SW 80th St\, Ocala\, FL\, 34476\, United States
CATEGORIES:WDAFL Events
ATTACH;FMTTYPE=image/jpeg:https://wdafl.org/wp-content/uploads/2022/02/Training-Event.jpg
END:VEVENT
BEGIN:VEVENT
DTSTART;VALUE=DATE:20220212
DTEND;VALUE=DATE:20220213
DTSTAMP:20260424T135707
CREATED:20220123T215850Z
LAST-MODIFIED:20220123T215850Z
UID:24730-1644624000-1644710399@wdafl.org
SUMMARY:9th Annual General Membership Meeting and Awards Presentation
DESCRIPTION:RSVP by February 4\, 2022 to info@wdafl.org\nHaywire Ranch Dressage Series\nShow the whole weekend \nAnnual meeting starts 1 hour after the show on Saturday. \nDinner and dessert sponsored by Amber Cooke’s Haywire Ranch will be available for guests. \nHigh Point Awards presentation and Rider Medal presentation. \nBring your friends and ideas! \nOpen to current and prospective WDAFL members\, family and friends. \nMeet The Board Members \n2021 High Point Awards Presentation \nMeet other WD Enthusiasts \nLearn About Current Programs and Grants \nRegister for the 2022 High Point Program
URL:https://wdafl.org/show/9th-annual-general-membership-meeting-and-awards-presentation/
LOCATION:Mosaic Arena\, 2450 NE Roan Street\, Arcadia\, FL\, 34266\, United States
CATEGORIES:WDAFL Events
ATTACH;FMTTYPE=image/jpeg:https://wdafl.org/wp-content/uploads/2022/01/9th-Annual-General-Membership-Meeting-and-Awards-Presentation.jpg
END:VEVENT
BEGIN:VEVENT
DTSTART;VALUE=DATE:20211105
DTEND;VALUE=DATE:20211108
DTSTAMP:20260424T135707
CREATED:20210715T214810Z
LAST-MODIFIED:20211007T205419Z
UID:24342-1636070400-1636329599@wdafl.org
SUMMARY:2021 Annual WDAFL Fall Festival Show
DESCRIPTION:Join us at the beautiful Grand Oaks Resort \n3000 Marion County Road\, Weirsdale\, FL. 32195 \n[btn text=”Download Showbill” link=”https://wdafl.org/wp-content/uploads/2021/07/2021-showbill-combinedR2.pdf” tcolor=”#ffffff” thovercolor=”#ffffff” size=”large” icon=”icon-arrow-right” target=”true”] \n[kt_box opacity=”1″ padding_top=”20″ padding_bottom=”10″ padding_left=”20″ padding_right=”20″ background=”#f1f1f1″] \nWDAA (21-312)/ USEF Lite (341842) AQHA (945142) Recognized show. On Friday evening -rail and freestyle. Saturday will offer all test levels and divisions followed by educational demonstrations and raffles.[/kt_box] \n[space size=”10px”] \n[kt_box opacity=”1″ padding_top=”20″ padding_bottom=”10″ padding_left=”20″ padding_right=”20″ background=”#f1f1f1″] \nWDAA (21-313) / USEF Local (334128) AQHA(945142) Competition on Sunday. Youth\, Amateur\, and Open Championship Awards and Breed Awards.[/kt_box] \nThe entire show is open to All Breeds. \n Judges: Robin Breuckman “R” (World Show Judge) and Janice Mumford “R” USEF Steward: Cecile Hetzel Dunn \nManager : Gayle Witty—352-406-9886 or wittyhorse@embarqmail.com Show Secretary: Carlie Evans—352-215-0710 or sehorseshows@gmail.com Show Photographer: Chandler Moore \nClosing date: October 25\, 2021
URL:https://wdafl.org/show/2021-annual-wdafl-fall-festival-show/
LOCATION:The Grand Oaks Resort\, 3000 Marion County Rd\, Lady Lake\, FL\, 32159
CATEGORIES:WDAFL Events
ATTACH;FMTTYPE=image/jpeg:https://wdafl.org/wp-content/uploads/2021/07/2021-WDAFL-Championship-Banner.jpg
END:VEVENT
END:VCALENDAR