BEGIN:VCALENDAR
VERSION:2.0
PRODID:-//Western Dressage Association of Florida - ECPv6.15.20//NONSGML v1.0//EN
CALSCALE:GREGORIAN
METHOD:PUBLISH
X-ORIGINAL-URL:https://wdafl.org
X-WR-CALDESC:Events for Western Dressage Association of Florida
REFRESH-INTERVAL;VALUE=DURATION:PT1H
X-Robots-Tag:noindex
X-PUBLISHED-TTL:PT1H
BEGIN:VTIMEZONE
TZID:America/New_York
BEGIN:DAYLIGHT
TZOFFSETFROM:-0500
TZOFFSETTO:-0400
TZNAME:EDT
DTSTART:20210314T070000
END:DAYLIGHT
BEGIN:STANDARD
TZOFFSETFROM:-0400
TZOFFSETTO:-0500
TZNAME:EST
DTSTART:20211107T060000
END:STANDARD
BEGIN:DAYLIGHT
TZOFFSETFROM:-0500
TZOFFSETTO:-0400
TZNAME:EDT
DTSTART:20220313T070000
END:DAYLIGHT
BEGIN:STANDARD
TZOFFSETFROM:-0400
TZOFFSETTO:-0500
TZNAME:EST
DTSTART:20221106T060000
END:STANDARD
BEGIN:DAYLIGHT
TZOFFSETFROM:-0500
TZOFFSETTO:-0400
TZNAME:EDT
DTSTART:20230312T070000
END:DAYLIGHT
BEGIN:STANDARD
TZOFFSETFROM:-0400
TZOFFSETTO:-0500
TZNAME:EST
DTSTART:20231105T060000
END:STANDARD
BEGIN:DAYLIGHT
TZOFFSETFROM:-0500
TZOFFSETTO:-0400
TZNAME:EDT
DTSTART:20240310T070000
END:DAYLIGHT
BEGIN:STANDARD
TZOFFSETFROM:-0400
TZOFFSETTO:-0500
TZNAME:EST
DTSTART:20241103T060000
END:STANDARD
BEGIN:DAYLIGHT
TZOFFSETFROM:-0500
TZOFFSETTO:-0400
TZNAME:EDT
DTSTART:20250309T070000
END:DAYLIGHT
BEGIN:STANDARD
TZOFFSETFROM:-0400
TZOFFSETTO:-0500
TZNAME:EST
DTSTART:20251102T060000
END:STANDARD
BEGIN:DAYLIGHT
TZOFFSETFROM:-0500
TZOFFSETTO:-0400
TZNAME:EDT
DTSTART:20260308T070000
END:DAYLIGHT
BEGIN:STANDARD
TZOFFSETFROM:-0400
TZOFFSETTO:-0500
TZNAME:EST
DTSTART:20261101T060000
END:STANDARD
END:VTIMEZONE
BEGIN:VEVENT
DTSTART;TZID=America/New_York:20250117T000000
DTEND;TZID=America/New_York:20250119T235959
DTSTAMP:20260424T151557
CREATED:20240910T135222Z
LAST-MODIFIED:20241202T134459Z
UID:27325-1737072000-1737331199@wdafl.org
SUMMARY:WDAFL Annual Show
DESCRIPTION:Annual USEF\, WDAA\, AQHA recognized show and yearly WDAFL awards dinner and meeting \n\n\n\nStart your show year and points by attending The WDAFL Annual Western Dressage Show. This will be held January 17-19\, 2025 at The Florida Horse Park in Ocala\, FL.Hotels and restaurants nearby\, RV hook ups on site.Open to all breeds with Intro to Level 5 being offered. USEF\, WDAA\, AQHAWeekend and daily specialty awards to be offered.Saturday evening will include our annual association meeting and year-end awards presentation.Follow us on Facebook for more information and updates. \n\n\n\nWhat’s New This Year?Team Challenge: Gather your friends and form a team to compete in our exciting new Team Challenge! Work together to showcase your skills and enjoy some friendly competition. Details are available HERE \n\n\n\nWe are honored to welcome Jodi Ely “R”\, Lillian Evaniew-Phelan “R”\, and Patricia Thompson “r” as our official judges for this year’s show. With their extensive expertise and passion for Western Dressage\, we are confident they will make this event even more special. \n\n\n\nSpecial Saturday Night Event:Join us Saturday evening for our Annual Member Meeting and Awards Banquet\, where we’ll celebrate our community and honor recipients of the 2024 Year-End Awards. This is a fantastic opportunity to connect\, celebrate accomplishments\, and share in the joy of Western Dressage! \n\n\n\nHow to Enter:Submitting your entry is quick and easy! Just visit Horse Show Consulting complete the proper online forms\, and secure your spot in the show. \n\n\n\nEntries close on January 9\, 2025. Don’t miss your chance to participate! \n\n\n\nWe can’t wait to see you in the arena for another year of amazing performances and memories. \n\n\n\nBoard of DirectorsWestern Dressage Association of Florida \n\n\n\nA wide range of sponsorships are available.» Sponsor a Show Sponsorship\, Breed\, Division\, or Class \n\n\n\n\n\n\n\n\n\nEnter Now
URL:https://wdafl.org/show/wdafl-annual-show/
LOCATION:Florida Horse Park\, 11008 S. County Road 475A\, Ocala\, FL\, 34480\, United States
CATEGORIES:WDAFL Events,Western Dressage Show
ATTACH;FMTTYPE=image/jpeg:https://wdafl.org/wp-content/uploads/2024/09/2025-Annual-WDAFL-Show.jpg
END:VEVENT
BEGIN:VEVENT
DTSTART;TZID=America/New_York:20241201T000000
DTEND;TZID=America/New_York:20250125T235959
DTSTAMP:20260424T151557
CREATED:20241125T132941Z
LAST-MODIFIED:20250122T214445Z
UID:27593-1733011200-1737849599@wdafl.org
SUMMARY:WDAFL Gingerbread Jubilee
DESCRIPTION:Western Dressage Online Show\n\n\n\nJudge: Fatima Pawlenko-Kranz \n\n\n\nWDAA Recognition #: Applied ForFHANA\, AWSSR\, and APHA-PAC recognized \n\n\n\n \n\n\n\nResults\n\n\n        \n        \n            \n                \n                    \n                        \n\n                                                     \n\n                                            \n                \n            \n        \n    \n\n\n 
URL:https://wdafl.org/show/wdafl-gingerbread-jubilee/
LOCATION:Florida
CATEGORIES:Online/Virtual Show,WDAFL Events,Western Dressage Show
ATTACH;FMTTYPE=image/jpeg:https://wdafl.org/wp-content/uploads/2024/11/GingerbreadJubileeQualifying.jpg
END:VEVENT
BEGIN:VEVENT
DTSTART;VALUE=DATE:20240303
DTEND;VALUE=DATE:20240304
DTSTAMP:20260424T151558
CREATED:20240212T200427Z
LAST-MODIFIED:20240213T140253Z
UID:26860-1709424000-1709510399@wdafl.org
SUMMARY:Punta Gorda Horseman's Association Dressage #5
DESCRIPTION:Western Dressage Show recognized by WDAA. Traditional dressage classes offered as schooling show
URL:https://wdafl.org/show/punta-gorda-horsemans-association-dressage-5/
LOCATION:Carmalita Park\, 2605 Florida St \, Florida\, Punta Gorda\, Fkorida\, 33950
CATEGORIES:Western Dressage Show
ATTACH;FMTTYPE=image/jpeg:https://wdafl.org/wp-content/uploads/2024/02/PGHA-logo.jpeg
ORGANIZER;CN="Punta Gorda Horsemans Association":MAILTO:mwerst@live.com
END:VEVENT
BEGIN:VEVENT
DTSTART;VALUE=DATE:20240119
DTEND;VALUE=DATE:20240121
DTSTAMP:20260424T151558
CREATED:20230628T202401Z
LAST-MODIFIED:20231206T221438Z
UID:26390-1705622400-1705795199@wdafl.org
SUMMARY:The WDAFL Annual Western Dressage Show
DESCRIPTION:The 2024 WDAFL Annual Western Dressage Show\nUSEF Local Member Competition Open to All Breeds\nUSEF #344119 WDAA #24-110 AQHA# TBD \nFlorida Horse Park\n11008 S. County Road 475A\nOcala\, FL 34480 \nOpening Date: December 1\, 2023 Closing Date: January 2\, 2024\nLate Entries: January 5\, 2024 (Late fee applies)\nNo Entries Accepted After January 5\, 2024  \nShow Photographer Keli Wakeley keliwakeleyphotography.com \nJudges\nLynn Newton “R”\, Western Dressage (Rail Classes) Karen Winn “R”\, Western Dressage Janice Mumford “R”\, Western Dressage \nUSEF Steward\nSally Struss\, C2
URL:https://wdafl.org/show/the-wdafl-annual-western-dressage-show/
LOCATION:Florida Horse Park\, 11008 S. County Road 475A\, Ocala\, FL\, 34480\, United States
CATEGORIES:WDAFL Events,Western Dressage Show
ATTACH;FMTTYPE=image/jpeg:https://wdafl.org/wp-content/uploads/2022/07/WDAFL-logo-color.jpg
END:VEVENT
BEGIN:VEVENT
DTSTART;VALUE=DATE:20231216
DTEND;VALUE=DATE:20231218
DTSTAMP:20260424T151558
CREATED:20230607T184053Z
LAST-MODIFIED:20231020T210010Z
UID:26330-1702684800-1702857599@wdafl.org
SUMMARY:Just Showin Western Dressage II
DESCRIPTION:Western Dressage USEF Local Member Competition Open to All Breeds\n4640 CR 675 Bradenton\, FL 34211\nOpening Date: October 15\, 2023\nClosing Date: November 29\, 2023\nLate Entries: December 1\, 2023 (Late fee applies)\nNo Entries Accepted After December 1\, 2023\nJudges Judy Downer “R”\, Western Dressage\nLynn Newton “R”\, Western Dressage USEF\nSteward Sally Struss\, C2\nManager/Secretary Kim Kult 941-283-1089 kim.justshowin@gmail.com\nUSEF Competition: #344428\nWDAA#: 23-415\nAQHA#: 915940/915941 \nUSEF/AQHA/WDAA Rated Western Dressage Show. Two days with Beth Barritt and Cindy Butler\nOffering Introductory through Level 5\, as well as rail classes.
URL:https://wdafl.org/show/just-showin-western-dressage-ii-2/
LOCATION:Sarasota Manatee Association for Riding Therapy\, 4640 CR 675\, Bradenton\, FL\, 34211\, United States
CATEGORIES:Western Dressage Show
ATTACH;FMTTYPE=image/png:https://wdafl.org/wp-content/uploads/2023/06/Just-Showin-Logo.png
ORGANIZER;CN="Just Showin' Western Dressage":MAILTO:justshowin23@gmail.com
END:VEVENT
BEGIN:VEVENT
DTSTART;VALUE=DATE:20231020
DTEND;VALUE=DATE:20231023
DTSTAMP:20260424T151558
CREATED:20230625T164622Z
LAST-MODIFIED:20230625T221601Z
UID:26369-1697760000-1698019199@wdafl.org
SUMMARY:OAHC Spooktacular
DESCRIPTION:Rated all breed classes and Arabian classes for WD. We also have opportunity all breed classes for English dressage. Full slate of Arabian sport horse classes including working hunter\, in hand\, under saddle\, traditional and western dressage. \n\n A/HA/AA Working Hunter\, Sport Horse Under Saddle\, Traditional Dressage\, Western Dressage\, Sport Horse In Hand (Hunt Type & Dressage Type Both)\nRated Open Breed Western Dressage\nOpen Breed Opportunity Traditional Dressage\, Working Hunter\, Sport Horse In Hand\, & Sport Horse Under Saddle\nComplimentary Participants’ BBQ Saturday Evening\nAs always- LOTS of fun prizes!\nMore info at OrlandoArabianHorseClub.com under ‘Spooktacular’
URL:https://wdafl.org/show/oahc-spooktacular/
LOCATION:Clarcona Horse Park\, 3535 Damon road\, Apopka\, Florida\, 32712
CATEGORIES:Western Dressage Show
ATTACH;FMTTYPE=image/jpeg:https://wdafl.org/wp-content/uploads/2021/01/Orlando-Arabian-Horse-Club.jpg
ORGANIZER;CN="Orlando Arabian Horse Club":MAILTO:info@orlandoarabianhorseclub.com
END:VEVENT
BEGIN:VEVENT
DTSTART;VALUE=DATE:20230909
DTEND;VALUE=DATE:20230911
DTSTAMP:20260424T151558
CREATED:20230106T220653Z
LAST-MODIFIED:20230106T220653Z
UID:25929-1694217600-1694390399@wdafl.org
SUMMARY:Sunshine Classic 3 - Fall Western Dressage Kickoff
DESCRIPTION:We Welcome You to the Sunshine Classic Western Dressage Series\nat the beautiful Grand Oaks Resort 3000 Marion County Road-Weirsdale\, Florida 32195 \nTHE WESTERN DRESSAGE SUNSHINE CLASSIC SERIES at Grand Oaks \nMarch 3-5-Sunshine Classic 1-“Spring Fling Western Dressage Festival” \nMay 20-21-Sunshine Classic 2–“Beat the Heat Western Dressage” \nSeptember 9-10 Sunshine Classic 3–“Fall Western Dressage Kickoff” \nEach show is a Recognized USEF Lite show that is WDAA Approved and a Double Pointed AQHA Approved show\nAll Levels and Tests will be offered with Division Awards to Open\, Amateur\, & Junior\, Gaited Amateur and Junior Combined\, Gaited Open\, and Exceptional Rider Division \nCome join us for fun-filled weekends!\nManager/Secretary – Gayle Witty
URL:https://wdafl.org/show/sunshine-classic-3-fall-western-dressage-kickoff/
LOCATION:The Grand Oaks Resort\, 3000 Marion County Rd\, Lady Lake\, FL\, 32159
CATEGORIES:Western Dressage Show
ORGANIZER;CN="Orlando Dressage":MAILTO:wittyhorse@embarqmail.com
END:VEVENT
BEGIN:VEVENT
DTSTART;VALUE=DATE:20230902
DTEND;VALUE=DATE:20230904
DTSTAMP:20260424T151558
CREATED:20230607T194910Z
LAST-MODIFIED:20230607T194910Z
UID:26332-1693612800-1693785599@wdafl.org
SUMMARY:Just Showin Western Dressage II
DESCRIPTION:Western Dressage USEF Local Member Competition Open to All Breeds \nJudges: Beth Barritt | Cindy Butler\nContact: Lauren Merchant\n(239) 896-5593\njustshowin23@gmail.com \nUSEF/AQHA/WDAA Rated Western Dressage Show. Two days with Beth Barritt and Cindy Butler\nOffering Introductory through Level 5\, as well as rail classes.
URL:https://wdafl.org/show/just-showin-western-dressage-ii/
LOCATION:SMART\, 4640 CR 675\, Bradenton\, FL\, 34211\, United States
CATEGORIES:Western Dressage Show
ATTACH;FMTTYPE=image/png:https://wdafl.org/wp-content/uploads/2023/06/Just-Showin-Logo.png
ORGANIZER;CN="Just Showin' Western Dressage":MAILTO:justshowin23@gmail.com
END:VEVENT
BEGIN:VEVENT
DTSTART;VALUE=DATE:20230805
DTEND;VALUE=DATE:20230807
DTSTAMP:20260424T151558
CREATED:20230606T185919Z
LAST-MODIFIED:20230607T124056Z
UID:26318-1691193600-1691366399@wdafl.org
SUMMARY:Just Showin Western Dressage
DESCRIPTION:Western Dressage USEF Local Member Competition Open to All Breeds \nOpening Date: June 15\,2023 | Closing Date: July 26\, 2023\nLate Entries: July 28\, 2023 (Late fee applies)\nNo Entries Accepted After July 28\, 2023\nJudges: Heather Stalker “R”\, Western Dressage | Sue Hughes “R”\, Western Dressage\nUSEF Steward: Sally Struss\, “C2”\nManager/Secretary: Kim Kult\n941-283-1224\nkim.iustshowin@gmail.com\nUSEF Competition: *344175\nWDAA#: 23-347\nAQHA#: TBA \nUSEF/AQHA/WDAA Rated Western Dressage Show. Two days with Heather Stalker and Sue Hughes.\nOffering Introductory through Level 5\, as well as rail classes.
URL:https://wdafl.org/show/just-showin-western-dressage/
LOCATION:SMART\, 4640 CR 675\, Bradenton\, FL\, 34211\, United States
CATEGORIES:Western Dressage Show
ATTACH;FMTTYPE=image/png:https://wdafl.org/wp-content/uploads/2023/06/Just-Showin-Logo.png
ORGANIZER;CN="Just Showin' Western Dressage":MAILTO:justshowin23@gmail.com
END:VEVENT
BEGIN:VEVENT
DTSTART;VALUE=DATE:20230520
DTEND;VALUE=DATE:20230522
DTSTAMP:20260424T151558
CREATED:20230106T220547Z
LAST-MODIFIED:20230106T220547Z
UID:25927-1684540800-1684713599@wdafl.org
SUMMARY:Sunshine Classic 2 - Beat the Heat Western Dressage
DESCRIPTION:We Welcome You to the Sunshine Classic Western Dressage Series\nat the beautiful Grand Oaks Resort 3000 Marion County Road-Weirsdale\, Florida 32195 \nTHE WESTERN DRESSAGE SUNSHINE CLASSIC SERIES at Grand Oaks \nMarch 3-5-Sunshine Classic 1-“Spring Fling Western Dressage Festival” \nMay 20-21-Sunshine Classic 2–“Beat the Heat Western Dressage” \nSeptember 9-10 Sunshine Classic 3–“Fall Western Dressage Kickoff” \nEach show is a Recognized USEF Lite show that is WDAA Approved and a Double Pointed AQHA Approved show\nAll Levels and Tests will be offered with Division Awards to Open\, Amateur\, & Junior\, Gaited Amateur and Junior Combined\, Gaited Open\, and Exceptional Rider Division \nCome join us for fun-filled weekends!\nManager/Secretary – Gayle Witty
URL:https://wdafl.org/show/sunshine-classic-2-beat-the-heat-western-dressage/
LOCATION:The Grand Oaks Resort\, 3000 Marion County Rd\, Lady Lake\, FL\, 32159
CATEGORIES:Western Dressage Show
ORGANIZER;CN="Orlando Dressage":MAILTO:wittyhorse@embarqmail.com
END:VEVENT
BEGIN:VEVENT
DTSTART;VALUE=DATE:20230413
DTEND;VALUE=DATE:20230414
DTSTAMP:20260424T151558
CREATED:20230227T203522Z
LAST-MODIFIED:20230227T231007Z
UID:26055-1681344000-1681430399@wdafl.org
SUMMARY:Citrus Cup
DESCRIPTION:47th Annual Citrus Cup Horse Show\nApril 12-15\, 2023\nJudge: Coby Holowacz\nDressage Judge: Heather Stalker\nOpp Over Fences Judge: Bridget Imparato\nCarriage Cones Judge: Kacy Tipton-Fashik\nSteward: Sally Struss\nFarrier: Larry Colson\, FL\nVeterinarian On Call: Springhill Veterinary Service\, 352-474-5007 \nAnnouncer: Eric Tasker \nPhotographer: Natasha Douglas \nUSEF Regular Member Competition for\nMorgans\, ASB and Open Breeds\nAmerican Saddlebred Association qualifying show for Louisville.\nWestern Dressage Association Recognized (#23-146)\nOpen Breed classes in Carriage\, Pleasure\, and Pony divisions \nAlachua County Agricultural & Equestrian Center\nNewberry\, FL \nUSEF RULES FORUM:\nWednesday in the grandstands immediately following 10 am session \nHost Hotel:\nGATEWAY BEST WESTERN\n352-331-3336 toll free 877-464-2378\nNOTE: Make your reservations early! \nContact:\nAlicia Davis 352-472-6727\naliciaraindropfarm@gmail.com \n\nCITRUS CUP HORSE SHOW COMMITTEE\nLes Conklin\, Alicia Davis\, Rick Davis\, Tom Johnson\, Margaret McKnight\, Sally Ann Lyle\, Glenn Winograd\, Kevin Gibson
URL:https://wdafl.org/show/citrus-cup-2/
LOCATION:Alachua County Agricultural and Equestrian Center\, 28031 W Newberry Rd\, Newberry\, Florida\, 32669-2604
CATEGORIES:Western Dressage Show
ATTACH;FMTTYPE=image/jpeg:https://wdafl.org/wp-content/uploads/2020/01/ccuplogo.jpg
END:VEVENT
BEGIN:VEVENT
DTSTART;VALUE=DATE:20230303
DTEND;VALUE=DATE:20230306
DTSTAMP:20260424T151558
CREATED:20230106T220400Z
LAST-MODIFIED:20230106T220738Z
UID:25923-1677801600-1678060799@wdafl.org
SUMMARY:Sunshine Classic 1 - Spring Fling Western Dressage Festival
DESCRIPTION:We Welcome You to the Sunshine Classic Western Dressage Series\nat the beautiful Grand Oaks Resort 3000 Marion County Road-Weirsdale\, Florida 32195 \nTHE WESTERN DRESSAGE SUNSHINE CLASSIC SERIES at Grand Oaks \nMarch 3-5-Sunshine Classic 1-“Spring Fling Western Dressage Festival” \nMay 20-21-Sunshine Classic 2–“Beat the Heat Western Dressage” \nSeptember 9-10 Sunshine Classic 3–“Fall Western Dressage Kickoff” \nEach show is a Recognized USEF Lite show that is WDAA Approved and a Double Pointed AQHA Approved show\nAll Levels and Tests will be offered with Division Awards to Open\, Amateur\, & Junior\, Gaited Amateur and Junior Combined\, Gaited Open\, and Exceptional Rider Division \nCome join us for fun-filled weekends!\nManager/Secretary – Gayle Witty
URL:https://wdafl.org/show/sunshine-classic-western-dressage-series/
LOCATION:The Grand Oaks Resort\, 3000 Marion County Rd\, Lady Lake\, FL\, 32159
CATEGORIES:Western Dressage Show
ORGANIZER;CN="Orlando Dressage":MAILTO:wittyhorse@embarqmail.com
END:VEVENT
BEGIN:VEVENT
DTSTART;VALUE=DATE:20220908
DTEND;VALUE=DATE:20220909
DTSTAMP:20260424T151558
CREATED:20220710T172921Z
LAST-MODIFIED:20220730T172426Z
UID:25618-1662595200-1662681599@wdafl.org
SUMMARY:Summer's End Horse Show
DESCRIPTION:September 8-11\, 2022\nWorld Equestrian Center | Ocala\, FL \nENTRIES CLOSE AUGUST 25\, 2022 \nAll breed horseshow with OPEN ALL BREED WESTERN DRESSAGE CLASSES \nJudge: Alicia Owens\nDressage & Western Dressage Judge: TBA\nOver Fences: TBA\nExceptional Classes Judge: TBA \nShow Announcer: David “Tuffy” Owens \nOfficial Photographer: Jon McCarthy \nPlease note: You may arrive anytime after NOON on WEDNESDAY at no additional charge. \nAMHA Star Rated Show\nASHA Point Approved\nFeaturing classes for Morgans\, American Saddlebreds\, Exceptional Challenge\, Academy\, Open Breed\, Carriage Driving\, Western Dressage\, USDF Dressage\, Hunter Over Fences and Pony classes \nShow Manager:\nGlenn Winograd  | 813-833-2247 | glenn@cesfl.com \nShow Secretary:\nCarlie Evans  | 352-215-0710 | sehorseshows@gmail.com
URL:https://wdafl.org/show/summers-end-horse-show/
LOCATION:World Equestrian Center\, 1750 N W 80 Ave\, Ocala\, Florida\, 34482
CATEGORIES:Western Dressage Show
ATTACH;FMTTYPE=image/jpeg:https://wdafl.org/wp-content/uploads/2022/07/FMHA-logo.jpg
END:VEVENT
END:VCALENDAR