BEGIN:VCALENDAR
VERSION:2.0
PRODID:-//Western Dressage Association of Florida - ECPv6.15.20//NONSGML v1.0//EN
CALSCALE:GREGORIAN
METHOD:PUBLISH
X-ORIGINAL-URL:https://wdafl.org
X-WR-CALDESC:Events for Western Dressage Association of Florida
REFRESH-INTERVAL;VALUE=DURATION:PT1H
X-Robots-Tag:noindex
X-PUBLISHED-TTL:PT1H
BEGIN:VTIMEZONE
TZID:America/New_York
BEGIN:DAYLIGHT
TZOFFSETFROM:-0500
TZOFFSETTO:-0400
TZNAME:EDT
DTSTART:20250309T070000
END:DAYLIGHT
BEGIN:STANDARD
TZOFFSETFROM:-0400
TZOFFSETTO:-0500
TZNAME:EST
DTSTART:20251102T060000
END:STANDARD
BEGIN:DAYLIGHT
TZOFFSETFROM:-0500
TZOFFSETTO:-0400
TZNAME:EDT
DTSTART:20260308T070000
END:DAYLIGHT
BEGIN:STANDARD
TZOFFSETFROM:-0400
TZOFFSETTO:-0500
TZNAME:EST
DTSTART:20261101T060000
END:STANDARD
BEGIN:DAYLIGHT
TZOFFSETFROM:-0500
TZOFFSETTO:-0400
TZNAME:EDT
DTSTART:20270314T070000
END:DAYLIGHT
BEGIN:STANDARD
TZOFFSETFROM:-0400
TZOFFSETTO:-0500
TZNAME:EST
DTSTART:20271107T060000
END:STANDARD
END:VTIMEZONE
BEGIN:VEVENT
DTSTART;TZID=America/New_York:20260904T000000
DTEND;TZID=America/New_York:20261018T235959
DTSTAMP:20260425T090211
CREATED:20260130T132013Z
LAST-MODIFIED:20260202T183035Z
UID:29252-1788480000-1792367999@wdafl.org
SUMMARY:WDAAZ Heart of the Horse - Fall Show 
DESCRIPTION:Western Dressage Online Show\n\n\n\nEntries Open Dates: September 4\, 2026Video Submission: through October 18\, 2026Judge: Joyce Swanson – R \n\n\n\nWDAA Recognized #26-154This show does not count toward WDAFL Virtual High Point AwardsFHANA\, AWSSR\, and APHA-PAC recognized \n\n\n\n  \n\n\n\nRegister online at Spotlight Horse Shows
URL:https://wdafl.org/show/wdaaz-follow-your-heart-spring-show-2/
LOCATION:Florida
CATEGORIES:Western Dressage Show
ATTACH;FMTTYPE=image/png:https://wdafl.org/wp-content/uploads/2026/01/f8f35aba-5950-4532-947f-0184102915dc-1.png
END:VEVENT
END:VCALENDAR