BEGIN:VCALENDAR
VERSION:2.0
PRODID:-//Western Dressage Association of Florida - ECPv6.15.20//NONSGML v1.0//EN
CALSCALE:GREGORIAN
METHOD:PUBLISH
X-WR-CALNAME:Western Dressage Association of Florida
X-ORIGINAL-URL:https://wdafl.org
X-WR-CALDESC:Events for Western Dressage Association of Florida
REFRESH-INTERVAL;VALUE=DURATION:PT1H
X-Robots-Tag:noindex
X-PUBLISHED-TTL:PT1H
BEGIN:VTIMEZONE
TZID:America/New_York
BEGIN:DAYLIGHT
TZOFFSETFROM:-0500
TZOFFSETTO:-0400
TZNAME:EDT
DTSTART:20200308T070000
END:DAYLIGHT
BEGIN:STANDARD
TZOFFSETFROM:-0400
TZOFFSETTO:-0500
TZNAME:EST
DTSTART:20201101T060000
END:STANDARD
BEGIN:DAYLIGHT
TZOFFSETFROM:-0500
TZOFFSETTO:-0400
TZNAME:EDT
DTSTART:20210314T070000
END:DAYLIGHT
BEGIN:STANDARD
TZOFFSETFROM:-0400
TZOFFSETTO:-0500
TZNAME:EST
DTSTART:20211107T060000
END:STANDARD
BEGIN:DAYLIGHT
TZOFFSETFROM:-0500
TZOFFSETTO:-0400
TZNAME:EDT
DTSTART:20220313T070000
END:DAYLIGHT
BEGIN:STANDARD
TZOFFSETFROM:-0400
TZOFFSETTO:-0500
TZNAME:EST
DTSTART:20221106T060000
END:STANDARD
END:VTIMEZONE
BEGIN:VEVENT
DTSTART;VALUE=DATE:20210426
DTEND;VALUE=DATE:20210511
DTSTAMP:20260425T120300
CREATED:20210426T175306Z
LAST-MODIFIED:20210503T120831Z
UID:24205-1619395200-1620691199@wdafl.org
SUMMARY:NWFL May 2021 Online Dressage Show
DESCRIPTION:Offering classical\, western\, and gaited dressage classes. \nClassical\, Eventing\, Western\, and Gaited Dressage Classes \nJudge: Joanne Coy\, “L” USDF\, “R” WDAA\nWDAA Recognized Show #21-285E\nOpening Date: April 26\, 2021 \nClosing Date: May 10\, 2021 at 11:59 PM CST \n» Download Prizelist
URL:https://wdafl.org/show/nwfl-may-2021-online-dressage-show/
LOCATION:Virtual\, United States
ATTACH;FMTTYPE=image/jpeg:https://wdafl.org/wp-content/uploads/2020/08/Logo.jpg
ORGANIZER;CN="NWFL Deep South Dressage and Combined Training Association":MAILTO:nwflscorekeeper@gmail.com
END:VEVENT
BEGIN:VEVENT
DTSTART;TZID=America/New_York:20210417T000000
DTEND;TZID=America/New_York:20210417T000000
DTSTAMP:20260425T120300
CREATED:20210112T155639Z
LAST-MODIFIED:20210113T131749Z
UID:23957-1618617600-1618617600@wdafl.org
SUMMARY:SWDEA Dressage Show
DESCRIPTION:This is a schooling dressage and western dressage show.  Our Judge is Beth Barrit “R”.  If you have any questions or need additional information please go to the swdea.com website.   \nAll entries and payment for entries will be online at swdea.com
URL:https://wdafl.org/show/swdea-dressage-show/
LOCATION:Mahan Farm\, 8150 Mahan Dr \, FL\, Tallahassee\, FL\, 32309
ATTACH;FMTTYPE=image/png:https://wdafl.org/wp-content/uploads/2020/01/SWDEA-LOGO.png
ORGANIZER;CN="SWDEA - The South Wind Dressage & Eventing  Association%2C Inc.":MAILTO:president@swdea.com
END:VEVENT
END:VCALENDAR