BEGIN:VCALENDAR
VERSION:2.0
PRODID:-//Western Dressage Association of Florida - ECPv6.15.20//NONSGML v1.0//EN
CALSCALE:GREGORIAN
METHOD:PUBLISH
X-ORIGINAL-URL:https://wdafl.org
X-WR-CALDESC:Events for Western Dressage Association of Florida
REFRESH-INTERVAL;VALUE=DURATION:PT1H
X-Robots-Tag:noindex
X-PUBLISHED-TTL:PT1H
BEGIN:VTIMEZONE
TZID:America/New_York
BEGIN:DAYLIGHT
TZOFFSETFROM:-0500
TZOFFSETTO:-0400
TZNAME:EDT
DTSTART:20240310T070000
END:DAYLIGHT
BEGIN:STANDARD
TZOFFSETFROM:-0400
TZOFFSETTO:-0500
TZNAME:EST
DTSTART:20241103T060000
END:STANDARD
BEGIN:DAYLIGHT
TZOFFSETFROM:-0500
TZOFFSETTO:-0400
TZNAME:EDT
DTSTART:20250309T070000
END:DAYLIGHT
BEGIN:STANDARD
TZOFFSETFROM:-0400
TZOFFSETTO:-0500
TZNAME:EST
DTSTART:20251102T060000
END:STANDARD
BEGIN:DAYLIGHT
TZOFFSETFROM:-0500
TZOFFSETTO:-0400
TZNAME:EDT
DTSTART:20260308T070000
END:DAYLIGHT
BEGIN:STANDARD
TZOFFSETFROM:-0400
TZOFFSETTO:-0500
TZNAME:EST
DTSTART:20261101T060000
END:STANDARD
END:VTIMEZONE
BEGIN:VEVENT
DTSTART;TZID=America/New_York:20251102T000000
DTEND;TZID=America/New_York:20251102T235959
DTSTAMP:20260424T174548
CREATED:20250927T125606Z
LAST-MODIFIED:20250927T132523Z
UID:28731-1762041600-1762127999@wdafl.org
SUMMARY:PGHA Dressage November
DESCRIPTION:Western Dressage Show WDAA recognizedClassical Dressage schooling show \n\n\n\nShow Judge: Charlotte Trentelman “S” \n\n\n\nEntries for the November 2nd Show open on October 1st! Get your entries in earlier along with your membership\, nomination and sponsor forms!!
URL:https://wdafl.org/show/pgha-dressage-1/
LOCATION:Carmalita Park\, 2605 Florida St \, Florida\, Punta Gorda\, Fkorida\, 33950
CATEGORIES:Classical Dressage Show with WD Classes,Western Dressage Show
ATTACH;FMTTYPE=image/jpeg:https://wdafl.org/wp-content/uploads/2024/02/PGHA-logo.jpeg
ORGANIZER;CN="Punta Gorda Horsemans Association":MAILTO:mwerst@live.com
END:VEVENT
BEGIN:VEVENT
DTSTART;TZID=America/New_York:20251109T000000
DTEND;TZID=America/New_York:20251109T235959
DTSTAMP:20260424T174548
CREATED:20250905T133757Z
LAST-MODIFIED:20250905T140238Z
UID:28624-1762646400-1762732799@wdafl.org
SUMMARY:WTCA Dressage Schooling Show November 9\, 2025
DESCRIPTION:Schooling Dressage classes – USDF\, USEF\, USEA\, FEI\, WDAA\, Gaited\, and USAWE  \n\n\n\nJudge(s) – Tara Manion \n\n\n\n\n\nDressage Show Bill\n\nOnline Signup at RingRadar.com
URL:https://wdafl.org/show/wtca-dressage-schooling-show-september-28-2025/
LOCATION:Alachua County Agricultural and Equestrian Center\, 28031 W Newberry Rd\, Newberry\, Florida\, 32669-2604
CATEGORIES:Schooling Show
ATTACH;FMTTYPE=image/jpeg:https://wdafl.org/wp-content/uploads/2025/09/WTCA-full-logo-2-1.jpg
ORGANIZER;CN="Walk Trot Canter Association":MAILTO:info@walktrotcanter.org
END:VEVENT
BEGIN:VEVENT
DTSTART;TZID=America/New_York:20251115T000000
DTEND;TZID=America/New_York:20251115T235959
DTSTAMP:20260424T174548
CREATED:20241221T150932Z
LAST-MODIFIED:20241221T150933Z
UID:28031-1763164800-1763251199@wdafl.org
SUMMARY:NFDA October Schooling Show
DESCRIPTION:Northeast Florida Dressage Association (NFDA) SCHOOLING SHOW\n\n\n\nJacksonville Equestrian Center13611 Normandy Blvd.Jacksonville\, Florida 32221 \n\n\n\nShow Judge: Judy Downer and Natalie Lamping \n\n\n\nWebsite
URL:https://wdafl.org/show/nfda-october-schooling-show-2/
LOCATION:Jacksonville Equestrian Center\, 13611 Normandy Blvd.\, Jacksonville\, Florida\, 32221
CATEGORIES:Classical Dressage Show with WD Classes
ATTACH;FMTTYPE=image/jpeg:https://wdafl.org/wp-content/uploads/2024/12/NFDA-logo.jpg
END:VEVENT
BEGIN:VEVENT
DTSTART;TZID=America/New_York:20251122T000000
DTEND;TZID=America/New_York:20251123T235959
DTSTAMP:20260424T174548
CREATED:20251003T172547Z
LAST-MODIFIED:20251003T173755Z
UID:28765-1763769600-1763942399@wdafl.org
SUMMARY:Florida Color Horse Club - Wishbone
DESCRIPTION:2 DAY\, 2 judge USEF LOCAL (FULL POINT)\, AQHA\, WDAA SHOW \n\n\n\nJudges:LYNN NEWTON “R” CHARLOTTE TRENTELMAN “R” \n\n\n\nClosing Date –  Nov 8\, 2025\, or when full. \n\n\n\nShow Registration
URL:https://wdafl.org/show/florida-color-horse-club-wishbone/
LOCATION:Alachua County Agricultural and Equestrian Center\, 28031 W Newberry Rd\, Newberry\, Florida\, 32669-2604
ATTACH;FMTTYPE=image/jpeg:https://wdafl.org/wp-content/uploads/2025/10/FCHC-Wishbone.jpg
ORGANIZER;CN="Florida Color Horse Club":MAILTO:info@showfchc.com
END:VEVENT
END:VCALENDAR