BEGIN:VCALENDAR
VERSION:2.0
PRODID:-//Western Dressage Association of Florida - ECPv6.15.20//NONSGML v1.0//EN
CALSCALE:GREGORIAN
METHOD:PUBLISH
X-ORIGINAL-URL:https://wdafl.org
X-WR-CALDESC:Events for Western Dressage Association of Florida
REFRESH-INTERVAL;VALUE=DURATION:PT1H
X-Robots-Tag:noindex
X-PUBLISHED-TTL:PT1H
BEGIN:VTIMEZONE
TZID:America/New_York
BEGIN:DAYLIGHT
TZOFFSETFROM:-0500
TZOFFSETTO:-0400
TZNAME:EDT
DTSTART:20250309T070000
END:DAYLIGHT
BEGIN:STANDARD
TZOFFSETFROM:-0400
TZOFFSETTO:-0500
TZNAME:EST
DTSTART:20251102T060000
END:STANDARD
BEGIN:DAYLIGHT
TZOFFSETFROM:-0500
TZOFFSETTO:-0400
TZNAME:EDT
DTSTART:20260308T070000
END:DAYLIGHT
BEGIN:STANDARD
TZOFFSETFROM:-0400
TZOFFSETTO:-0500
TZNAME:EST
DTSTART:20261101T060000
END:STANDARD
BEGIN:DAYLIGHT
TZOFFSETFROM:-0500
TZOFFSETTO:-0400
TZNAME:EDT
DTSTART:20270314T070000
END:DAYLIGHT
BEGIN:STANDARD
TZOFFSETFROM:-0400
TZOFFSETTO:-0500
TZNAME:EST
DTSTART:20271107T060000
END:STANDARD
END:VTIMEZONE
BEGIN:VEVENT
DTSTART;TZID=America/New_York:20260104T000000
DTEND;TZID=America/New_York:20260104T235959
DTSTAMP:20260424T151015
CREATED:20250918T144353Z
LAST-MODIFIED:20250918T144355Z
UID:28683-1767484800-1767571199@wdafl.org
SUMMARY:STRIDE Dressage Schooling Show - January
DESCRIPTION:Welcome to the 2025/2026 STRIDE Schooling Show Series presented by Stride Dressage of Ocala\, a volunteer run GMO\, promoting traditional dressage\, western dressage and driven dressage. Schooling shows offer classes in all these as well as gaited\, working equitation and USEA dressage\, driven cones and various versatility classes. Members enjoy discounted entry fees\, Year End Awards\, and discounts from our many sponsors. Non-members and competitors of all ages and skill levels are welcome at our shows. \n\n\n\nShow Judge: Matt McLaughlinClosing Date: December 22 \n\n\n\nEnter online\n\nDownload Showbill
URL:https://wdafl.org/show/stride-dressage-schooling-show-january/
LOCATION:Florida Horse Park\, 11008 S. County Road 475A\, Ocala\, FL\, 34480\, United States
CATEGORIES:Classical Dressage Show with WD Classes
ATTACH;FMTTYPE=image/jpeg:https://wdafl.org/wp-content/uploads/2025/09/STRIDE-Logo-4-1.jpg
ORGANIZER;CN="Stride":MAILTO:stridesecretary@gmail.com
END:VEVENT
BEGIN:VEVENT
DTSTART;TZID=America/New_York:20260109T000000
DTEND;TZID=America/New_York:20260111T235959
DTSTAMP:20260424T151015
CREATED:20250508T164117Z
LAST-MODIFIED:20251008T152411Z
UID:28448-1767916800-1768175999@wdafl.org
SUMMARY:WDAFL 2026 Annual Show
DESCRIPTION:Let the Good Times Roll at the WDAFL 2026 Annual Show! \n\n\n\nMark your calendars for January 9–11\, 2026\, when the Western Dressage Association of Florida transforms the Florida Horse Park in Ocala into a Mardi Gras celebration of horses\, harmony\, and horsemanship! \n\n\n\nThis year’s show theme is Mardi Gras Magic—so grab your beads\, your masks\, and your best parade spirit as you ride down the centerline. From vibrant musical freestyles to the elegance of gaited western dressage\, every test will sparkle with festive flair. \n\n\n\nOur distinguished judges\, Jodi Ely “R” and Cindy Butler “R”\, will preside over the fun\, ensuring a top-notch competition worthy of the carnival spirit. Exhibitors can also look forward to breed awards\, a lively exhibitor’s party\, vendors\, and raffle prizes—all with that signature New Orleans energy. \n\n\n\nBack by Popular Demand: The Stall Decorating Contest!  \n\n\n\nIn the true spirit of Mardi Gras\, we’re bringing back the beloved Stall Decorating Contest. Show off your creativity with beads\, masks\, feathers\, and flair—turn your barn aisle into a Bourbon Street parade! Prizes will be awarded\, bragging rights will be earned\, and the festive atmosphere will be unforgettable. \n\n\n\nWhether you’re riding\, cheering\, or joining the parade from the stands\, come be part of the rhythm\, color\, and joy that only WDAFL can bring. Laissez les bons temps rouler—let the good times roll!
URL:https://wdafl.org/show/wdafl-2026-annual-show/
LOCATION:Florida Horse Park\, 11008 S. County Road 475A\, Ocala\, FL\, 34480\, United States
CATEGORIES:WDAFL Events,Western Dressage Show
ATTACH;FMTTYPE=image/jpeg:https://wdafl.org/wp-content/uploads/2025/05/Annual-Show-flier.jpg
END:VEVENT
BEGIN:VEVENT
DTSTART;TZID=America/New_York:20260123T000000
DTEND;TZID=America/New_York:20260308T235959
DTSTAMP:20260424T151015
CREATED:20260130T131407Z
LAST-MODIFIED:20260202T183245Z
UID:29244-1769126400-1773014399@wdafl.org
SUMMARY:WDAAZ Heart My Horse - Winter Show
DESCRIPTION:Western Dressage Online Show\n\n\n\nEntries Open Dates: January 23\, 2026Video Submission: through March 8\, 2026Judge: Ann Judge – R \n\n\n\nWDAA Recognized #26-152This show does not count toward WDAFL Virtual High Point AwardsFHANA\, AWSSR\, and APHA-PAC recognized \n\n\n\n  \n\n\n\nRegister online at Spotlight Horse Shows
URL:https://wdafl.org/show/wdaaz-heart-my-horse-winter-show/
LOCATION:Florida
CATEGORIES:Western Dressage Show
ATTACH;FMTTYPE=image/png:https://wdafl.org/wp-content/uploads/2026/01/3cc2db93-e653-4bf3-9086-9a9ffaf57fad.png
END:VEVENT
END:VCALENDAR